BEGIN:VCALENDAR
VERSION:2.0
PRODID:-//Δήμος Λουτρακίου - ECPv4.6.12//NONSGML v1.0//EN
CALSCALE:GREGORIAN
METHOD:PUBLISH
X-WR-CALNAME:Δήμος Λουτρακίου
X-ORIGINAL-URL:https://loutraki.gov.gr
X-WR-CALDESC:Events for Δήμος Λουτρακίου
BEGIN:VEVENT
DTSTART;TZID=Europe/Athens:20251017T110000
DTEND;TZID=Europe/Athens:20251031T180000
DTSTAMP:20260425T105647
CREATED:20251017T065957Z
LAST-MODIFIED:20251017T065957Z
UID:32474-1760698800-1761933600@loutraki.gov.gr
SUMMARY:Ατομική Έκθεση Τάμαρας Τοπάλα – «Διάλογος των Τεχνών»
DESCRIPTION:Ζωγραφική\, βυζαντινή αγιογραφία\, καλλιτεχνικές χειροποίητες κατασκευές και βιβλία…\nσυνδιαλέγονται σε μια ξεχωριστή έκθεση που ενώνει την παράδοση με τη σύγχρονη δημιουργία.\n\n Διάρκεια: 17–31 Οκτωβρίου 2025\n Χώρος: Δημοτικό Κτίριο Beau Rivage\, Ήρας 2\, Λουτράκι\n Ώρες λειτουργίας: 11:00–18:00\n Εγκαίνια: 18 Οκτωβρίου\, ώρα 18:00\n\nΗ έκθεση τελεί υπό την αιγίδα του Δήμου Λουτρακίου – Περαχώρας – Αγίων Θεοδώρων\, με τη στήριξη της Ένωσης Καλλιτεχνών & Λογοτεχνών Ηλιούπολης «Το Εργαστήρι»\, της Ένωσης Ελλήνων–Μολδαβών «Αλέξανδρος Υψηλάντης» και του Εργαστηρίου ΕΕΕ\, Χασιά\, Φυλής. \n
URL:https://loutraki.gov.gr/event/atomiki-ekthesi-tamaras-topala-dialogos-ton-technon/
LOCATION:Ποσειδώνος 1\, Λουτράκι\, Κορινθία\, 20300
GEO:37.9762688;22.9765313
X-APPLE-STRUCTURED-LOCATION;VALUE=URI;X-ADDRESS=Ποσειδώνος 1 Λουτράκι Κορινθία 20300;X-APPLE-RADIUS=500;X-TITLE=Ποσειδώνος 1:geo:22.9765313,37.9762688
CATEGORIES:Πολιτιστικές
ATTACH;FMTTYPE=image/jpeg:https://loutraki.gov.gr/wp-content/uploads/2025/10/557595833_1252633700231480_3506103783570529385_n.jpg
END:VEVENT
BEGIN:VEVENT
DTSTART;TZID=Europe/Athens:20251022T100000
DTEND;TZID=Europe/Athens:20251022T130000
DTSTAMP:20260425T105647
CREATED:20251013T105318Z
LAST-MODIFIED:20251013T110447Z
UID:32455-1761127200-1761138000@loutraki.gov.gr
SUMMARY:Ενημερωτική δράση Κέντρου Υγείας Λουτρακίου με θέμα «Πρόληψη του καρκίνου του μαστού»
DESCRIPTION:Ενημερωτική δράση του Κέντρου Υγείας Λουτρακίου με θέμα «Πρόληψη του καρκίνου του μαστού» \nΟ Δήμος Λουτρακίου – Περαχώρας – Αγίων Θεοδώρων στηρίζει και προβάλλει την πρωτοβουλία του Κέντρου Υγείας Λουτρακίου\, αρμοδιότητας της 6ης Υγειονομικής Περιφέρειας Υγείας (Υ.Π.Ε.)\, υπό την επιστημονική ευθύνη της Δρ. Παρασκευής Σούκουλη\, για τη διοργάνωση ενημερωτικής δράσης με θέμα την πρόληψη του καρκίνου του μαστού\, στο πλαίσιο του Εθνικού Προγράμματος Πρόληψης «ΦΩΦΗ ΓΕΝΝΗΜΑΤΑ». \nΟ Οκτώβριος έχει θεσμοθετηθεί διεθνώς ως μήνας ενημέρωσης και ευαισθητοποίησης για τον καρκίνο του μαστού — μία νόσο που\, εφόσον διαγνωσθεί έγκαιρα\, είναι πλέον ιάσιμη.\nΗ πρόληψη σώζει ζωές και η έγκαιρη ενημέρωση αποτελεί το πρώτο και σημαντικότερο βήμα. \n📍 Ημερομηνίες και σημεία δράσης: \n\n\nΠαρασκευή 17 Οκτωβρίου 2025\, από τις 10:00 π.μ. έως 13:00 μ.μ.\,\nστο Λουτράκι (οδός Περιάνδρου & Ελ. Βενιζέλου\, μπροστά από το ΚΕΠ) \n\n\nΤετάρτη 22 Οκτωβρίου 2025\, από τις 10:00 π.μ. έως 13:00 μ.μ.\,\nστους Αγίους Θεοδώρους (μπροστά από τον Ι. Ναό Ευαγγελιστρίας) \n\n\nΣτόχος της δράσης είναι η ενημέρωση των πολιτών για τη σημασία της πρόληψης και έγκαιρης διάγνωσης του καρκίνου του μαστού\, καθώς και η προώθηση του Εθνικού Προγράμματος που προσφέρει δωρεάν μαστογραφικό έλεγχο σε γυναίκες ηλικίας 45–74 ετών. \nΟ Δήμος εκφράζει τα θερμά του συγχαρητήρια στη Δρ. Παρασκευή Σούκουλη και στο προσωπικό του Κέντρου Υγείας Λουτρακίου για την πρωτοβουλία\, την ευαισθησία και το πολύτιμο έργο τους στην υπηρεσία της δημόσιας υγείας και της τοπικής κοινωνίας. \n🎗️ Η πρόληψη είναι δύναμη – η ενημέρωση είναι ζωή. \n \n
URL:https://loutraki.gov.gr/event/enimerotiki-drasi-kentroy-ygeias-loytrakioy-me-thema-prolipsi-toy-karkinoy-toy-mastoy-2/
LOCATION:Άγιοι Θεόδωροι\, Κορινθία
GEO:37.9282447;23.1433311
X-APPLE-STRUCTURED-LOCATION;VALUE=URI;X-ADDRESS=Άγιοι Θεόδωροι Κορινθία;X-APPLE-RADIUS=500;X-TITLE=Άγιοι Θεόδωροι:geo:23.1433311,37.9282447
CATEGORIES:Υγείας
ATTACH;FMTTYPE=image/png:https://loutraki.gov.gr/wp-content/uploads/2025/10/Pink-Modern-Pink-October-Instagram-Post-2.png
END:VEVENT
END:VCALENDAR