BEGIN:VCALENDAR
VERSION:2.0
PRODID:-//Δήμος Λουτρακίου - ECPv4.6.12//NONSGML v1.0//EN
CALSCALE:GREGORIAN
METHOD:PUBLISH
X-WR-CALNAME:Δήμος Λουτρακίου
X-ORIGINAL-URL:https://loutraki.gov.gr
X-WR-CALDESC:Events for Δήμος Λουτρακίου
BEGIN:VEVENT
DTSTART;TZID=Europe/Athens:20250820T090000
DTEND;TZID=Europe/Athens:20250825T170000
DTSTAMP:20260422T002600
CREATED:20250110T103419Z
LAST-MODIFIED:20250110T103443Z
UID:31081-1755680400-1756141200@loutraki.gov.gr
SUMMARY:World Masters Volleyball Cup 2025
DESCRIPTION:Το World Masters Volleyball Cup επιστρέφει δυναμικά για ακόμη μια χρονιά στο SPORTCAMP\, φέρνοντας στο επίκεντρο το πάθος για το βόλεϊ και τη χαρά της συμμετοχής! Το World Masters Volleyball Cup θα πραγματοποιηθεί από τις 20 έως 25 Αυγούστου 2025 με τους Βετεράνους αθλητές να προσφέρουν το καλύτερο εαυτό τους \, δημιουργώντας ένα κλίμα χαράς\, αντάμωσης και έντονου ανταγωνισμού για την κατάκτηση της νίκης. \n \nΑθλητές και αθλήτριες ηλικίας 45 ετών και άνω θα δώσουν τον καλύτερό τους εαυτό σε ένα τουρνουά που συνδυάζει τον ανταγωνισμό με τη φιλία και τη συνεργασία ανάμεσα σε διαφορετικούς ανθρώπους και πολιτισμούς. Η διοργάνωση\, που φιλοξενείται από το SPORTCAMP\, υποστηρίζεται από τον Δήμο Λουτρακίου – Περαχώρας – Αγίων Θεοδώρων και τον Τουριστικό Οργανισμό Λουτρακίου (LTO). \nΗ μακρόχρονη φιλοξενία σημαντικών αθλητικών εκδηλώσεων από το SPORTCAMP και το Λουτράκι καταδεικνύει τη σημασία που δίνεται στο βόλεϊ\, με πολλούς καταξιωμένους αθλητές να έχουν λάβει μέρος σε αυτή τη σειρά εκδηλώσεων. \nΟι ηλικιακές κατηγορίες που θα διαγωνιστούν περιλαμβάνουν: \nΆντρες: 45+ 55+ 60+ 65+ \nΓυναίκες: 45+  55+ 60+ 65+ \nΚάθε χώρα έχει δυνατότητα να λάβει μέρος στο τουρνουά με μία ομάδα ανά φύλο & ηλικιακή κατηγορία. Το roster κάθε ομάδας έχει μέγιστο αριθμό αθλητών τους 14. \nΓια περισσότερες πληροφορίες\, μπορείτε να επικοινωνείτε με τον κο Πελέκη Χαράλαμπο τηλ: 2744023999 ext.140 / 695 7500 792\, e-mail: b.pelekis@sportcamp.gr  \n
URL:https://loutraki.gov.gr/event/world-masters-volleyball-cup-2025/
LOCATION:Αύρας\, Λουτράκι\, Κορινθία\, 20300\, Ελλάδα
GEO:37.9768027;22.977169
X-APPLE-STRUCTURED-LOCATION;VALUE=URI;X-ADDRESS=Αύρας Λουτράκι Κορινθία 20300 Ελλάδα;X-APPLE-RADIUS=500;X-TITLE=Αύρας:geo:22.977169,37.9768027
CATEGORIES:Αθλητικές
ATTACH;FMTTYPE=image/png:https://loutraki.gov.gr/wp-content/uploads/2025/01/WORLD-MASTERS-VOLLEYBALL-CUP-2025.png
ORGANIZER;CN="SportCamp":MAILTO:sportcamp@sportcamp.gr
END:VEVENT
BEGIN:VEVENT
DTSTART;TZID=Europe/Athens:20250825T160000
DTEND;TZID=Europe/Athens:20250825T230000
DTSTAMP:20260422T002600
CREATED:20250728T082655Z
LAST-MODIFIED:20250728T082655Z
UID:32046-1756137600-1756162800@loutraki.gov.gr
SUMMARY:Έκθεση Ζωγραφικής
DESCRIPTION: \n
URL:https://loutraki.gov.gr/event/ekthesi-zografikis/
LOCATION:Ποσειδώνος 1\, Λουτράκι\, Κορινθία\, 20300
GEO:37.9762688;22.9765313
X-APPLE-STRUCTURED-LOCATION;VALUE=URI;X-ADDRESS=Ποσειδώνος 1 Λουτράκι Κορινθία 20300;X-APPLE-RADIUS=500;X-TITLE=Ποσειδώνος 1:geo:22.9765313,37.9762688
CATEGORIES:Πολιτιστικές
ATTACH;FMTTYPE=image/jpeg:https://loutraki.gov.gr/wp-content/uploads/2025/07/InShot_20250717_163115618.jpg
END:VEVENT
BEGIN:VEVENT
DTSTART;TZID=Europe/Athens:20250825T210000
DTEND;TZID=Europe/Athens:20250825T233000
DTSTAMP:20260422T002600
CREATED:20250728T094208Z
LAST-MODIFIED:20250728T094208Z
UID:32081-1756155600-1756164600@loutraki.gov.gr
SUMMARY:Ο ΘΑΝΑΤΟΣ ΤΟΥ ΕΜΠΟΡΑΚΟΥ
DESCRIPTION: \n«Ο ΘΑΝΑΤΟΣ ΤΟΥ ΕΜΠΟΡΑΚΟΥ» \nτου Άρθουρ Μίλερ \nΗ επιτυχημένη παράσταση του Γιώργου Νανούρη με τον Βλαδίμηρο Κυριακίδη στον πρωταγωνιστικό ρόλο\, ταξιδεύει σε όλη την Ελλάδα! \nΜετά από δύο συνεχόμενες χρονιές θριαμβευτικής παρουσίας στην Αθήνα\, με περισσότερους από 150.000 θεατές και 350 παραστάσεις\, το βραβευμένο με Πούλιτζερ έργο του Άρθουρ Μίλερ\, «Ο Θάνατος του Εμποράκου»\, σε σκηνοθεσία του Γιώργου Νανούρη\, με τον Βλαδίμηρο Κυριακίδη στον εμβληματικό ρόλο του Γουίλι Λόμαν\, ξεκινά την καλοκαιρινή του περιοδεία σε όλη την Ελλάδα! \nΗ παράσταση\, που συγκλόνισε το αθηναϊκό κοινό με την ευαισθησία και τη δύναμή της\, θα παρουσιαστεί σε επιλεγμένα θέατρα σε όλη την Ελλάδα\, και προσκαλεί το κοινό όλης της χώρας να βιώσει από κοντά το κορυφαίο έργο του Μίλερ\, το οποίο παραμένει επίκαιρο και βαθιά ανθρώπινο.​ Η προπώληση των εισιτηρίων έχει ήδη ξεκινήσει! \nΔίπλα στον Βλαδίμηρο Κυριακίδη ανεβαίνει επί σκηνής\, μια σπουδαία ομάδα ηθοποιών με τους: Έφη Μουρίκη\, Ρένο Ρώτα\, Δημήτρη Γεροδήμο\, Κατερίνα Μάντζιου\, Γιώργο Κοσκορέλλο\, Παναγιώτη Παπαδούλη και Σωκράτη Αγγελή. \nΓραμμένο το 1949\, “Ο Θάνατος του Εμποράκου” θεωρείται το κορυφαίο έργο του Αμερικανού συγγραφέα.  Πραγματεύεται την ζωή του Γουίλι Λόμαν\, ενός πλανόδιου πωλητή\, που ζει μπερδεμένος ανάμεσα στο παρόν και το παρελθόν\, εγκλωβισμένος από το αμερικάνικο όνειρο. Το δυσβάσταχτο κυνήγι της επιβίωσης\, σύμφωνα με τα πρότυπα που επιτάσσει η άκρως καπιταλιστική κοινωνία\, τον οδηγεί παραληρηματικά στην διάλυση ολόκληρης της ζωής του. \nΤα σκηνικά της παράστασης υπογράφει ο Γιώργος Γαβαλάς και τα κοστούμια η Ντένη Βαχλιώτη. \n
URL:https://loutraki.gov.gr/event/o-thanatos-toy-emporakoy/
LOCATION:Πάρκο Δεξαμενής\, Λουτράκι\, Κορινθία\, 20300\, Ελλάδα
CATEGORIES:Πολιτιστικές
ATTACH;FMTTYPE=image/jpeg:https://loutraki.gov.gr/wp-content/uploads/2025/07/cropped-image-1.jpg
END:VEVENT
END:VCALENDAR