BEGIN:VCALENDAR
VERSION:2.0
PRODID:-//Δήμος Λουτρακίου - ECPv4.6.12//NONSGML v1.0//EN
CALSCALE:GREGORIAN
METHOD:PUBLISH
X-WR-CALNAME:Δήμος Λουτρακίου
X-ORIGINAL-URL:https://loutraki.gov.gr
X-WR-CALDESC:Events for Δήμος Λουτρακίου
BEGIN:VEVENT
DTSTART;TZID=Europe/Athens:20250820T090000
DTEND;TZID=Europe/Athens:20250825T170000
DTSTAMP:20260421T201215
CREATED:20250110T103419Z
LAST-MODIFIED:20250110T103443Z
UID:31081-1755680400-1756141200@loutraki.gov.gr
SUMMARY:World Masters Volleyball Cup 2025
DESCRIPTION:Το World Masters Volleyball Cup επιστρέφει δυναμικά για ακόμη μια χρονιά στο SPORTCAMP\, φέρνοντας στο επίκεντρο το πάθος για το βόλεϊ και τη χαρά της συμμετοχής! Το World Masters Volleyball Cup θα πραγματοποιηθεί από τις 20 έως 25 Αυγούστου 2025 με τους Βετεράνους αθλητές να προσφέρουν το καλύτερο εαυτό τους \, δημιουργώντας ένα κλίμα χαράς\, αντάμωσης και έντονου ανταγωνισμού για την κατάκτηση της νίκης. \n \nΑθλητές και αθλήτριες ηλικίας 45 ετών και άνω θα δώσουν τον καλύτερό τους εαυτό σε ένα τουρνουά που συνδυάζει τον ανταγωνισμό με τη φιλία και τη συνεργασία ανάμεσα σε διαφορετικούς ανθρώπους και πολιτισμούς. Η διοργάνωση\, που φιλοξενείται από το SPORTCAMP\, υποστηρίζεται από τον Δήμο Λουτρακίου – Περαχώρας – Αγίων Θεοδώρων και τον Τουριστικό Οργανισμό Λουτρακίου (LTO). \nΗ μακρόχρονη φιλοξενία σημαντικών αθλητικών εκδηλώσεων από το SPORTCAMP και το Λουτράκι καταδεικνύει τη σημασία που δίνεται στο βόλεϊ\, με πολλούς καταξιωμένους αθλητές να έχουν λάβει μέρος σε αυτή τη σειρά εκδηλώσεων. \nΟι ηλικιακές κατηγορίες που θα διαγωνιστούν περιλαμβάνουν: \nΆντρες: 45+ 55+ 60+ 65+ \nΓυναίκες: 45+  55+ 60+ 65+ \nΚάθε χώρα έχει δυνατότητα να λάβει μέρος στο τουρνουά με μία ομάδα ανά φύλο & ηλικιακή κατηγορία. Το roster κάθε ομάδας έχει μέγιστο αριθμό αθλητών τους 14. \nΓια περισσότερες πληροφορίες\, μπορείτε να επικοινωνείτε με τον κο Πελέκη Χαράλαμπο τηλ: 2744023999 ext.140 / 695 7500 792\, e-mail: b.pelekis@sportcamp.gr  \n
URL:https://loutraki.gov.gr/event/world-masters-volleyball-cup-2025/
LOCATION:Αύρας\, Λουτράκι\, Κορινθία\, 20300\, Ελλάδα
GEO:37.9768027;22.977169
X-APPLE-STRUCTURED-LOCATION;VALUE=URI;X-ADDRESS=Αύρας Λουτράκι Κορινθία 20300 Ελλάδα;X-APPLE-RADIUS=500;X-TITLE=Αύρας:geo:22.977169,37.9768027
CATEGORIES:Αθλητικές
ATTACH;FMTTYPE=image/png:https://loutraki.gov.gr/wp-content/uploads/2025/01/WORLD-MASTERS-VOLLEYBALL-CUP-2025.png
ORGANIZER;CN="SportCamp":MAILTO:sportcamp@sportcamp.gr
END:VEVENT
BEGIN:VEVENT
DTSTART;TZID=Europe/Athens:20250821T210000
DTEND;TZID=Europe/Athens:20250824T233000
DTSTAMP:20260421T201215
CREATED:20250728T093208Z
LAST-MODIFIED:20250729T085551Z
UID:32077-1755810000-1756078200@loutraki.gov.gr
SUMMARY:«Β – Είμαι»
DESCRIPTION:Βαθιά φιλοσοφικό το ερώτημα της ύπαρξης\, έχει – από αρχαιοτάτων χρόνων συμβάλλει στην εξέλιξη του Κόσμου. Έχει προπονήσει πολλά επιστημονικά μυαλά\, έχει προσφέρει χώρο για συζητήσεις μεταξύ διανοούμενων\, έχει αποτελέσει ακόμα και πεδίο αναμέτρησης των θρησκειών. \nΌμως\, τι σημαίνει αλήθεια το να «είμαι»; \nΑν πάρουμε δέκα λεπτά από το καθημερινό μας τρέξιμο και σταθούμε να αφουγκραστούμε τον εαυτό μας\, θα μας αποκαλυφθεί ένας απέραντος κόσμος πιθανοτήτων: Το αν και πόσο συμπαγείς είμαστε\, η ουσία από την οποία αποτελούμαστε\, οι αναρίθμητοι καθημερινοί ρόλοι μας\, οι κριτικές και τις ταμπέλες μας\, οι διαφορετικές «χρήσεις» μας και οι ποιότητες που ενσωματώνουμε\, ο χώρος που καταλαμβάνουμε στον κόσμο μας\, η σχέσεις μας με τα άλλα πλάσματα… \nΌμως κατά πόσο όλα αυτά μας ορίζουν; Τελικά τι είμαστε; \nΕίμαστε μόνο ένα πράγμα; Από τι αποτελούμαστε; \nΑυτά είναι μερικά από τα θέματα τα οποία εξερευνά και με τα οποία συνομιλεί και αναμετράται το φετινό project των Encounters\, με τίτλο «B». \nΚαι το κάνει σαν παιχνίδι. Ένα παιχνίδι εξερεύνησης της ουσίας μας\, της δύσκολης παραμονής μας στο «εδώ και τώρα» και της αμφισβήτησης όλων των βεβαιοτήτων μας. Ρίχνουμε το ζάρι και ταξιδεύουμε μέσα σε ένα σύμπαν αναζητήσεων και αναρωτήσεων\, μέσω της εικόνας\, με μόνο σκοπό να χαρούμε το ταξίδι. \n21-24 Αυγούστου 2025\nΔημoτικό Κτήριο Beau Rivage\nΠαραλία Λουτρακίου\nΏρες: 19.00 – 23.00 \nΤο τετραήμερο θα περιλαμβάνει:\nΠολλή φωτογραφία\, εργαστήριο art therapy\, προβολή αφιερώματος στον Sebastiao Salgado\, Dj Set + Party\, Live μουσική και το κυριότερο\, πολύ παιχνίδι! \nΣυμμετέχουν οι φωτογράφοι:\nΆννα Δημητροκάλη\nΦωτεινή Κολοκοτρώνη\nΕλένη Κούτλα\nΌλγα Παπαλεξάνδρου\nΣοφία Πετικίδη\nΓιάννης Ρομπόκος \n \n
URL:https://loutraki.gov.gr/event/encounters/
LOCATION:Ποσειδώνος 1\, Λουτράκι\, Κορινθία\, 20300
GEO:37.9762688;22.9765313
X-APPLE-STRUCTURED-LOCATION;VALUE=URI;X-ADDRESS=Ποσειδώνος 1 Λουτράκι Κορινθία 20300;X-APPLE-RADIUS=500;X-TITLE=Ποσειδώνος 1:geo:22.9765313,37.9762688
CATEGORIES:Πολιτιστικές
ATTACH;FMTTYPE=image/jpeg:https://loutraki.gov.gr/wp-content/uploads/2025/07/524100759_1266962451886411_9004002679532247330_n.jpg
END:VEVENT
BEGIN:VEVENT
DTSTART;TZID=Europe/Athens:20250822T210000
DTEND;TZID=Europe/Athens:20250822T230000
DTSTAMP:20260421T201215
CREATED:20250728T100153Z
LAST-MODIFIED:20250728T100153Z
UID:32095-1755896400-1755903600@loutraki.gov.gr
SUMMARY:Η Πεντάμορφη και Το Τέρας
DESCRIPTION:\n\n\n\n\n \n\n\n\n\n\n\n\nΗ Παιδική Σκηνή της Γιώτας Τζουάνη \, μετά τις SOLD OUT παραστάσεις της στην έδρα της \, στο Θέατρο Αυλαία στον Πειραιά \, ξεκινά την Καλοκαιρινή Περιοδεία της ανά την Ελλάδα με την μαγική ιστορία αγάπης » Η ΠΕΝΤΑΜΟΡΦΗ & ΤΟ ΤΕΡΑΣ «…\n\n\n\nΈνα από τα πιο διδακτικά παραμύθια όλων των εποχών …\nΜια μεγάλη ονειρική παραγωγή για μικρούς και μεγάλους … \nΜΙΑ ΠΑΡΑΣΤΑΣΗ ΓΙΑ ΟΛΗ ΤΗΝ ΟΙΚΟΓΕΝΕΙΑ ΚΑΤΑΛΛΗΛΗ ΓΙΑ ΠΡΟΣΧΟΛΙΚΗ ΚΑΙ ΣΧΟΛΙΚΗ ΗΛΙΚΙΑ ( ΑΝΩ ΤΩΝ 2 ΕΤΩΝ ) \nΈνα λαικό παραμύθι – έργο τέχνης λαμβάνει σάρκα και οστά …. \nΜια παράσταση για όλη την οικογένεια\, σε κείμενο και σκηνοθεσία Γιώτας Τζουάνη\, που θα κλέψει τις καρδιές σας. \nΚατάλληλη για σχολεία και συλλόγους. \n\nΛΙΓΑ ΛΟΓΙΑ ΓΙΑ ΤΟ ΕΡΓΟ \nΜια φτωχή κοπέλα η Μπελ φυλακίζεται από το Τέρας στο Κάστρο του \, ως αντάλλαγμα για την απελευθέρωσή του πατέρα της . Παρά τον φόβο της \, γίνεται φίλη με όλους όσους κατοικούν στο κάστρο και μαθαίνει να προσπερνά την εξωτερική εμφάνιση του τέρατος διακρίνοντας την αληθινή καρδιά του Πρίγκιπα που κρύβεται μέσα του… \nΈνα έργο με εξαιρετικούς συμβολισμούς \, υπέροχη μουσική \, μοναδικά σκηνικά και κουστούμια που δίνει σπουδαία μηνύματα για μικρούς και μεγάλους… \nΠΑΙΔΑΓΩΓΙΚΟΙ ΣΚΟΠΟΙ:Η ικανότητα του να μπορείς να βλέπεις την πραγματική εσωτερική ομορφιά \, ακόμη και κάτω από την μάσκα της εξωτερικής ασχήμιας… \nΤΑΥΤΟΤΗΤΑ ΠΑΡΑΣΤΑΣΗΣ \nΣΥΝΤΕΛΕΣΤΕΣ \nΚείμενο\, Διασκευή\, Σκηνοθεσία: ΓΙΩΤΑ ΤΖΟΥΑΝΗ\nΒοηθός Σκηνοθέτη: ΡΙΑ ΝΤΕΓΙΑΝΝΗ\nΣκηνικά: ΜΑΡΣΩ ΦΙΛΗ\nΧορογραφίες: G.T\nΉχος-Φώτα : ΜΑΡΙΟΣ ΤΡΙΑΝΤΑΦΥΛΛΟΠΟΥΛΟΣ\nΓραφικά : BEEZY STUDIO ATHENS – ANASTASIOS EVANGELAKOS\nVideo-Trailer : MARIOS CHALDAIOS\nΦωτογραφίες: ΧΡΙΣΤΙΝΑ ΦΥΛΑΚΤΟΠΟΥΛΟΥ\nΚουστούμια : KRISTINA SPAHILLARI\nΕνορχήστρωση : ΓΙΑΝΝΗΣ ΠΡΟΜΠΟΝΑΣ \nΠΑΙΖΟΥΝ \nΚΑΤΕΡΙΝΑ ΠΟΛΥΔΕΡΑ\nΘΩΜΑΣ ΣΠΥΡΟΠΟΥΛΟΣ\nΡΙΑ ΝΤΕΓΙΑΝΝΗ\nΜΑΡΣΩ ΦΙΛΗ\nΠΕΡΙΚΛΗΣ ΤΣΑΜΑΝΤΑΝΗΣ \nΕπικοινωνία : ΝΤΑΙΖΗ ΛΕΜΠΕΣΗ Παραγωγή: ΝΕΑ ΑΥΛΑΙΑ ΑΜΚΕ \n\n\n\n\nΝ. ΚΟΡΙΝΘΙΑΣ\nΠαιδικά\nΘέατρο\n\n \n\n\n\n\n \n\n\n\n\n\nΠαρασκευή\, 22 Αύγουστος | 21:00\nΘέατρο Παντελής Ζερβός\, Πάρκο Δεξαμενής\n\n\n\n\n\n\n\n\n \n\n\n\n\n\n \n\n\n\n\n\n\n\n\n\n\n\n\n\n\n\n \n\n\n\n\n\n\n\n\n\n\n\n\n \n\n\n\n\n\n\n\n\n\n\n\n\n\n\n \n\n\n\n
URL:https://loutraki.gov.gr/event/i-pentamorfi-kai-to-teras/
LOCATION:Πάρκο Δεξαμενής\, Λουτράκι\, Κορινθία\, 20300\, Ελλάδα
GEO:37.9727548;22.9858004
X-APPLE-STRUCTURED-LOCATION;VALUE=URI;X-ADDRESS=Πάρκο Δεξαμενής Λουτράκι Κορινθία 20300 Ελλάδα;X-APPLE-RADIUS=500;X-TITLE=Πάρκο Δεξαμενής:geo:22.9858004,37.9727548
CATEGORIES:Πολιτιστικές
ATTACH;FMTTYPE=image/png:https://loutraki.gov.gr/wp-content/uploads/2025/07/Στιγμιότυπο-οθόνης-2025-07-28-125920.png
END:VEVENT
END:VCALENDAR