BEGIN:VCALENDAR
VERSION:2.0
PRODID:-//Δήμος Λουτρακίου - ECPv4.6.12//NONSGML v1.0//EN
CALSCALE:GREGORIAN
METHOD:PUBLISH
X-WR-CALNAME:Δήμος Λουτρακίου
X-ORIGINAL-URL:https://loutraki.gov.gr/en
X-WR-CALDESC:Events for Δήμος Λουτρακίου
BEGIN:VEVENT
DTSTART;TZID=Europe/Athens:20250716T200000
DTEND;TZID=Europe/Athens:20250716T220000
DTSTAMP:20260423T182418
CREATED:20250701T122914Z
LAST-MODIFIED:20250701T122914Z
UID:31920-1752696000-1752703200@loutraki.gov.gr
SUMMARY:Καλοκαιρινή Μουσική Γιορτή
DESCRIPTION:Ο Εφυραίος Άθλος σας προσκαλεί σε μια αξέχαστη καλοκαιρινή βραδιά! \nΜαζί τους οι μοναδικοί Τhe Final Act\, έτοιμοι να ξεσηκώσουν το κοινό με ζωντανή μουσική και ανεβασμένη διάθεση. \nΜην το χάσετε! \n \n
URL:https://loutraki.gov.gr/en/event/kalokairini-moysiki-giorti/
LOCATION:Πάρκο Δεξαμενής\, Λουτράκι\, 20300\, Ελλάδα
GEO:37.9727548;22.9858004
X-APPLE-STRUCTURED-LOCATION;VALUE=URI;X-ADDRESS=Πάρκο Δεξαμενής Λουτράκι 20300 Ελλάδα;X-APPLE-RADIUS=500;X-TITLE=Πάρκο Δεξαμενής:geo:22.9858004,37.9727548
CATEGORIES:Εκπαιδευτικές,
ATTACH;FMTTYPE=image/jpeg:https://loutraki.gov.gr/wp-content/uploads/2025/07/ΑΦΙΣΑ.jpg
END:VEVENT
END:VCALENDAR