BEGIN:VCALENDAR
VERSION:2.0
PRODID:-//Δήμος Λουτρακίου - ECPv4.6.12//NONSGML v1.0//EN
CALSCALE:GREGORIAN
METHOD:PUBLISH
X-WR-CALNAME:Δήμος Λουτρακίου
X-ORIGINAL-URL:https://loutraki.gov.gr
X-WR-CALDESC:Events for Δήμος Λουτρακίου
BEGIN:VEVENT
DTSTART;TZID=Europe/Athens:20190601T143000
DTEND;TZID=Europe/Athens:20190601T200000
DTSTAMP:20260424T201028
CREATED:20190528T164647Z
LAST-MODIFIED:20190528T164647Z
UID:17809-1559399400-1559419200@loutraki.gov.gr
SUMMARY:ΘΩΔΕΙΑ 2019
DESCRIPTION:Ο Α.Ο. Ποσειδών Λουτρακίου και η ΕΑΣ ΣΕΓΑΣ Περιφέρειας Πελοποννήσου σε συνεργασία με τον Δήμο Λουτρακίου – Περαχώρας – Αγίων Θεοδώρων και υπό την αιγίδα της Περιφέρειας Πελοποννήσου προκηρύσσουν αγώνες στίβου με την επωνυμία «36α ΘΩΔΕΙΑ 2019». \nΟι αγώνες θα διεξαχθούν το Σαββάτο 1η Ιουνίου στο Θώδειο στάδιο Λουτρακίου με ώρα έναρξης 14:30.Τα Θώδεια αποτελούν την μεγαλύτερη διοργάνωση κλασικού αθλητισμού στην Ανατολική Πελοπόννησο και βεβαία στο Νόμο Κορινθίας. \nΥπάρχουν συμμετοχές από όλη την Ελληνική επικράτεια και έχουν αγκαλιαστεί από τους φίλους και τα σωματεία του στίβου. Τα τελευταία χρόνια βρίσκονται σε συνεχή ανοδική πορεία\, ας σημειωθεί ότι το 2018 συμμετείχαν αθλητές από 94 σωματεία από όλη την Ελλάδα\, ενώ κάθε χρόνο σημειώνονται πολύ καλές αθλητικές επιδόσεις. \nΣτους αγώνες δικαίωμα συμμετοχής έχουν οι αθλητές – τριες που ανήκουν στην δύναμη των σωματείων- μελών του ΣΕΓΑΣ. \nΚάθε αθλητής-τρια μπορεί να δηλωθεί και να συμμετάσχει στα αγωνίσματα\, όπως ακριβώς προβλέπεται από τις τεχνικές διατάξεις του ΣΕΓΑΣ\, για τα διασυλλογικά Πρωταθλήματα 2018 – 2019 της κατηγορίας τους. \nΟι δηλώσεις συμμετοχής των αθλητών – τριών θα γίνονται μόνον ηλεκτρονικά έως και Τετάρτη 29 Μαΐου 2019 – e-mail : vpahatouridis@hotmail.com. Οι αθλητές και οι αθλήτριες πρέπει να δηλωθούν 60 λεπτά πριν την τέλεση του αγωνίσματος στη Γραμματεία των αγώνων\, με αυτοπρόσωπη παρουσία και με το δελτίο του αθλητή – τριας του ΣΕΓΑΣ. \nΗ μετακίνηση των συμμετεχόντων αθλητών στα Θώδεια θα είναι δωρεάν (από Ναύπλιο\, Άργος\, Πάτρα\, Πύργος\, Αθήνα ) σε συνεννόηση με τους διοργανωτές και τους τεχνικούς συμβούλους των Ε.Α.Σ. \nΤα ενδιαφερόμενα αθλητικά σωματεία πρέπει να δηλώσουν τον αριθμό συμμετοχών\, όσον αφορά την μετακίνηση των αθλητών\, έως και την Πέμπτη 30 Μαΐου 2019 και ώρα 14:00 (οι θέσεις θα δοθούν κατά σειρά προτεραιότητας στο e-mail: vpahatouridis@hotmail.com & Τηλ. Επικοινωνίας : 6944850422). \n
URL:https://loutraki.gov.gr/event/thodeia-2019/
LOCATION:Στάδιο Λουτρακίου\, ΛΟΥΤΡΑΚΙ\, 20300\, Ελλάδα
GEO:37.9660214;22.9792319
X-APPLE-STRUCTURED-LOCATION;VALUE=URI;X-ADDRESS=Στάδιο Λουτρακίου ΛΟΥΤΡΑΚΙ 20300 Ελλάδα;X-APPLE-RADIUS=500;X-TITLE=Στάδιο Λουτρακίου:geo:22.9792319,37.9660214
CATEGORIES:Αθλητικές
ATTACH;FMTTYPE=image/jpeg:https://loutraki.gov.gr/wp-content/uploads/2019/05/αρχείο-λήψης-1-1-800x1116.jpg
END:VEVENT
END:VCALENDAR