BEGIN:VCALENDAR
VERSION:2.0
PRODID:-//Δήμος Λουτρακίου - ECPv4.6.12//NONSGML v1.0//EN
CALSCALE:GREGORIAN
METHOD:PUBLISH
X-WR-CALNAME:Δήμος Λουτρακίου
X-ORIGINAL-URL:https://loutraki.gov.gr
X-WR-CALDESC:Events for Δήμος Λουτρακίου
BEGIN:VEVENT
DTSTART;TZID=Europe/Athens:20220521T100000
DTEND;TZID=Europe/Athens:20220522T180000
DTSTAMP:20260423T171224
CREATED:20220301T085527Z
LAST-MODIFIED:20220519T093826Z
UID:25274-1653127200-1653242400@loutraki.gov.gr
SUMMARY:Τελικός Αναπτυξιακών Πρωταθλητών Επιτραπέζιας Αντισφαίρισης
DESCRIPTION:Το Σάββατο 21 και την Κυριακή 22 Μαΐου 2022 στο Κλειστό Γυμναστήριο Λουτρακίου »Γ. ΓΑΛΑΝΟΠΟΥΛΟΣ» θα πραγματοποιηθεί ο Μεγάλος Τελικός Αναπτυξιακών πρωταθλημάτων Πινγκ Πονγκ. \n \nΟι 16 καλύτεροι αθλητές και αθλήτριες όλων των νεαρών ηλικιών (έως 12 ετών\, έως 15 και έως 18) αγωνίζονται στην πόλη μας με στόχο μια θέση στο βάθρο και πολύ περισσότερο\, μια θέση στην εθνική ομάδα\, καθώς πρόκειται για τους τελευταίους καθοριστικούς αγώνες για τον σχηματισμό των εθνικών ομάδων των παμπαίδων/ παγκορασίδων\, παίδων/ κορασίδων και έφηβων/ νεανίδων που θα εκπροσωπήσουν τη χώρα μας το καλοκαίρι στα αντίστοιχα Ευρωπαϊκά Πρωταθλήματα. \nΤους αγώνες διοργανώνει η Ελληνική Φίλαθλος Ομοσπονδία Επιτραπέζιας Αντισφαίρισης (ΕΦΟΕΠΑ)\, σε συνδιοργάνωση με τον Δήμο Λουτρακίου – Περαχώρας – Αγίων Θεοδώρων και τον Α.Ο. ΠΟΣΕΙΔΩΝΑ Λουτρακίου\, ένα σωματείο που καλλιεργεί το άθλημα για παραπάνω από 50 χρόνια. Έξι μάλιστα αθλητές του ΠΟΣΕΙΔΩΝΑ θα συμμετέχουν στους αγώνες με πολλές πιθανότητες διάκρισης καθώς ο ΠΟΣΕΙΔΩΝΑΣ ΛΟΥΤΡΑΚΙΟΥ είναι η πρωταθλήτρια Ελλάδος στο ομαδικό ΠΑΙΔΩΝ για το 2022 και στο ομαδικό ΠΑΜΠΑΙΔΩΝ για το έτος 2021. \nΤο Σάββατο 21 Μαΐου από τις 10.00 εως τις 17.00 θα πραγματοποιηθούν οι αγώνες της 16άδας σε ομίλους των παραπάνω κατηγοριών καθώς και όλοι οι αγώνες της ηλικιακής κατηγορίας Εφήβων/ νεανίδων. \nΤην Κυριακή 22 Μαΐου θα πραγματοποιηθούν στις 10.00 οι προημιτελικοί\, στις 11.30 οι ημιτελικοί και στις 14.00 οι τελικοί των κατηγοριών παμπαίδων/ παγκορασίδων και παίδων/ κορασίδων\, με πολύ πιθανή τη συμμετοχή και αθλητών από τον ΠΟΣΕΙΔΩΝΑ. \nΚαλή επιτυχία σε όλα τα παιδιά που αγωνίζονται! \n
URL:https://loutraki.gov.gr/event/telikos-anaptyxiakon-protathliton-epitrapezias-antisfairisis/
LOCATION:Λεωφόρος Αθηνών\, Λουτράκι\, 20300
GEO:37.945996;22.9761642
X-APPLE-STRUCTURED-LOCATION;VALUE=URI;X-ADDRESS=Λεωφόρος Αθηνών Λουτράκι 20300;X-APPLE-RADIUS=500;X-TITLE=Λεωφόρος Αθηνών:geo:22.9761642,37.945996
CATEGORIES:Αθλητικές
ATTACH;FMTTYPE=image/jpeg:https://loutraki.gov.gr/wp-content/uploads/2022/05/Ping-Pong.jpg
ORGANIZER;CN="%CE%95%CE%BB%CE%BB%CE%B7%CE%BD%CE%B9%CE%BA%CE%AE%20%CE%A6%CE%AF%CE%BB%CE%B1%CE%B8%CE%BB%CE%B7%20%CE%9F%CE%BC%CE%BF%CF%83%CF%80%CE%BF%CE%BD%CE%B4%CE%AF%CE%B1%20%CE%95%CF%80%CE%B9%CF%84%CF%81%CE%B1%CF%80%CE%AD%CE%B6%CE%B9%CE%B1%CF%82%20%CE%91%CE%BD%CF%84%CE%B9%CF%83%CF%86%CE%B1%CE%AF%CF%81%CE%B9%CF%83%CE%B7%CF%82":MAILTO:info@httf.gr
END:VEVENT
END:VCALENDAR