BEGIN:VCALENDAR
VERSION:2.0
PRODID:-//Δήμος Λουτρακίου - ECPv4.6.12//NONSGML v1.0//EN
CALSCALE:GREGORIAN
METHOD:PUBLISH
X-WR-CALNAME:Δήμος Λουτρακίου
X-ORIGINAL-URL:https://loutraki.gov.gr
X-WR-CALDESC:Events for Δήμος Λουτρακίου
BEGIN:VEVENT
DTSTART;TZID=Europe/Athens:20250323T103000
DTEND;TZID=Europe/Athens:20250323T123000
DTSTAMP:20260422T020259
CREATED:20250319T085116Z
LAST-MODIFIED:20250319T090505Z
UID:31320-1742725800-1742733000@loutraki.gov.gr
SUMMARY:Τελετή Αποκαλυπτηρίων της προτομής του Δημητρίου Πλαπούτα
DESCRIPTION:Ο Δήμαρχος Λουτρακίου – Περαχώρας – Αγίων Θοεδώρων κ. Γιώργος Γκιώνης σας προσκαλεί στην Τελετή Αποκαλυπτηρίων της προτομής του Δημητρίου Πλαπούτα. \n  \nΤιμώντας τη Μνήμη του Ήρωα της Ελληνικής Επανάστασης του 1821\, Δημητρίου Πλαπούτα\, σας προσκαλούμε στην Τελετή Αποκαλυπτηρίων της Προτομής του\, την Κυριακή 23 Μαρτίου 2025 και ώρα 10.30 π.μ.\, στον χώρο του Ηρώου\, στο Παραλιακό Πάρκο Λουτρακίου. \n  \nΗ παρουσία σας θα μας τιμήσει ιδιαίτερα. \n  \n \n
URL:https://loutraki.gov.gr/event/teleti-apokalyptirion-tis-protomis-toy-dimitrioy-plapoyta/
LOCATION:Παραλιακό Πάρκο\, ΛΟΥΤΡΑΚΙ\, Κορινθία\, 20300\, Ελλάδα
GEO:37.9792631;22.9735862
X-APPLE-STRUCTURED-LOCATION;VALUE=URI;X-ADDRESS=Παραλιακό Πάρκο ΛΟΥΤΡΑΚΙ Κορινθία 20300 Ελλάδα;X-APPLE-RADIUS=500;X-TITLE=Παραλιακό Πάρκο:geo:22.9735862,37.9792631
ATTACH;FMTTYPE=image/png:https://loutraki.gov.gr/wp-content/uploads/2025/03/ΠΡΟΣΚΛΗΣΗ-ΑΠΟΚΑΛΥΠΤΗΡΙΑ-ΠΡΟΤΟΜΗΣ-ΔΗΜ.-ΠΛΑΠΟΥΤΑ.png
END:VEVENT
END:VCALENDAR