BEGIN:VCALENDAR
VERSION:2.0
PRODID:-//Δήμος Λουτρακίου - ECPv4.6.12//NONSGML v1.0//EN
CALSCALE:GREGORIAN
METHOD:PUBLISH
X-WR-CALNAME:Δήμος Λουτρακίου
X-ORIGINAL-URL:https://loutraki.gov.gr
X-WR-CALDESC:Events for Δήμος Λουτρακίου
BEGIN:VEVENT
DTSTART;TZID=Europe/Athens:20240531T080000
DTEND;TZID=Europe/Athens:20240602T170000
DTSTAMP:20260419T193319
CREATED:20240228T085542Z
LAST-MODIFIED:20240529T094716Z
UID:29218-1717142400-1717347600@loutraki.gov.gr
SUMMARY:TASTE OF LOUTRAKI | The Corinthian Food Festival
DESCRIPTION:Γαστρονομικό Φεστιβάλ στο Λουτράκι με πρωταγωνιστές τις τοπικές επιχειρήσεις εστίασης και φιλοξενίας \n \nΔιοργανωτές: Τουριστικός Οργανισμός Λουτρακίου\, Σύλλογος Επισιτιστών «Ο ΞΕΝΙΟΣ ΖΕΥΣ»\, Επιμελητήριο Κορινθίας\, εταιρεία Τουριστικού Μάρκετινγκ “Respond on Demand”\, | Αιγίδα και υποστήριξη: Δήμος Λουτρακίου – Περαχώρας – Αγίων Θεοδώρων\, Ένωση Ξενοδόχων Νομού Κορινθίας και Δημοτικό Λιμενικό Ταμείο Λουτρακίου-Περαχώρας \n\nΤο Taste of Loutraki-  The Corinthian Food Festival\, ένα φεστιβάλ που φέρνει σε επαφή το κοινό με την τοπική γαστρονομία\, διοργανώνεται για 3η συνεχόμενη χρονιά το τριήμερο 31 Μαΐου – 2 Ιουνίου. \nΣτο Δήμο Λουτρακίου- Περαχώρας- Αγ. Θεοδώρων επιχειρήσεις εστίασης\, ξενοδοχεία\, κορυφαίοι σεφ και παραγωγοί τοπικών προϊόντων\, σας προσκαλούν να γνωρίσετε\, να  γευτείτε και να απολαύσετε  τα προϊόντα της Κορινθιακής γης!! \nΟι επιχειρήσεις που συμμετέχουν ενεργά στη δράση του Taste of Loutraki: \nΑΜΙ – ANASSA – CLUB HOTEL CASINO –CORALLE –DOLCI PASSIONI  – HORIZON – MOMENTS– PERLA KITCHEN BAR– PIZZA BAKOS – PLAZA HOTEL –SEA & SAND – SEGAS HOTEL – SWEET VALIA – THEOXENIA HOTEL – VOUCLAIT – WOODY‘S – ΒΑΡΚΑΛΑΣ – ΒΑΣΙΛΗΣ – ΒΕΡΥΚΟΚΟ – ΕΛΑΙΩΝΑΣ – ΚΑΝΑΚΗΣ – ΜΑΙΣΤΡΑΛΙ – ΜΑΡΚΕΛΛΟΣ OLIVE – ΠΑΠΑΔΑΚΗΣ – ΠΙΠΕΡΙ – ΡΙΓΑΝΙ – ΤΟ ΕΡΓΑΣΤΗΡΙ ΤΗΣ ΤΥΡΟΠΙΤΑΣ – ΥΠΑΝΕΜΑ – ΦΡΑΓΚΙΑΣ \nΤο Γαστρονομικό Φεστιβάλ αποτελεί συνδιοργάνωση του Τουριστικού Οργανισμού Λουτρακίου\, του Συλλόγου Επισιτιστών Λουτρακίου «Ο Ξένιος Ζευς» και του Επιμελητηρίου Κορινθίας\, ενώ ο σχεδιασμός\, η οργάνωση και η υλοποίηση είχε ανατεθεί στην εταιρεία Τουριστικού marketing Respond on Demand. Το Τaste of Loutraki τελεί υπό την αιγίδα και υποστήριξη της Περιφέρειας Πελοποννήσου\, του Δήμου Λουτρακίου-Περαχώρας-Αγίων Θεοδώρων\, της Ένωσης Ξενοδόχων Νομού Κορινθίας\, του Δημοτικού Λιμενικού Ταμείου Λουτρακίου-Περαχώρας και είναι ευγενική χορηγία του COMER GROUP (WYNDHAM LOUTRAKI POSEIDON RESORT- CLUB HOTEL CASINO LOUTRAKI). Επίσης χορηγοί είναι ο ΌΜΙΛΟΣ BROWN HOTELS -Dave by the beach Loutraki\, το SEMELI ESTATE\, το OLEOSOPHIA Olive Garden & Olive Oil Tastings και τα εστιατόρια HORIZON & ΦΡΑΓΚΙΑΣ. \n  \n  \n  \n  \nΠαρασκευή – 31 Μαΐου 2024 (Κατόπιν Πρόσκλησης) \n18:30 – 20:00 \n\nΠαρουσίαση και περιγραφή του Γαστρονομικού Φεστιβάλ «Taste of Loutraki\, The Corinthian Food Festival»\, στο συνεδριακό χώρο του Club Hotel Loutraki\nΧαιρετισμοί Συν διοργανωτών στους διακεκριμένους προσκεκλημένους & των φιλοξενούμενων δημοσιογράφων\, bloggers\, influencers\n\n  \n20:00-21:00 Cocktail Event στο Admiral Βar στο Club Hotel Casino Loutraki \n  \nΑΝΟΙΚΤΗ ΕΚΔΗΛΩΣΗ ΓΑΣΤΡΟΝΟΜΙΑΣ ΓΙΑ ΤΟ ΚΟΙΝΟ \nΣάββατο Απόγευμα 1η Ιουνίου\, ώρα 19:00 \nΣτο πλαίσιο του Γαστρονομικού Φεστιβάλ ο Τουριστικός Οργανισμός Λουτρακίου (L.T.O)\, διοργανώνει σε συνεργασία με το Σύλλογο Επισιτιστών Λουτρακίου «Ο ΞΕΝΙΟΣ ΖΕΥΣ» και το Επιμελητήριο Κορινθίας Εκδήλωση Γαστρονομίας στην πλατεία Κρήνης\, στην παραλία Λουτρακίου. Η Εκδήλωση τελεί υπό την αιγίδα και υποστήριξη της Περιφέρειας Πελοποννήσου\, του Δήμου Λουτρακίου-Περαχώρας-Αγίων Θεοδώρων και του Λιμενικού Ταμείου Λουτρακίου. Παρουσιαστής της εκδήλωσης ο γνωστός τηλεοπτικός Δημοσιογράφος- Παρουσιαστής Θάνος Βάγιος. \nΠρωταγωνιστές -μαζί με τα εκλεκτά Κορινθιακά προϊόντα- θα είναι παραγωγοί – τυποποιητές τοπικών προϊόντων\, ενώ οι επισκέπτες θα απολαύσουν live μαγειρέματα και συνταγές από chef εγνωσμένης αξίας\, γευσιγνωσίες και οινογνωσίες υπό τους ήχους live συγκροτήματος \n\nLive Cooking – Γευσιγνωσία από τον διακεκριμένο Head chef Κωνσταντίνο Βασάλο\nLive Cooking από chef επιχειρήσεων\, μελών του Ξένιου Ζευς\nΠαρουσίαση Cocktails από bartender – επιχειρήσεων\, μελών του Ξένιου Ζευς\nLive Cooking από την ομάδα του Experience Perachora\nΓευσιγνωσία από το Εργαστήριο Ειδικής Επαγγελματικής Εκπαίδευσης (Ε.Ε.Ε.ΕΚ.) Κορίνθου\nΈκθεση και γευσιγνωσία Κορινθιακών προϊόντων\nΖωντανή Μουσική από τους μουσικούς Ηλία Δόσκορη\, Βασίλη Καρδάρα και Πάρη Γκέρκη.\n\n  \n \nΣτο πλαίσιο του φεστιβάλ οι φιλοξενούμενοι δημοσιογράφοι\, εξειδικευμένοι στον τουρισμό και στην  γαστρονομία\, καθώς και οι εκπρόσωποι τουριστικών γραφείων\, θα βιώσουν  και θα καταγράψουν μοναδικές εμπειρίες όπως: \n  \nΣάββατο- 1 Ιουνίου 2024 \n10:15-11:15 \n\nΞενάγηση και Workshop ελαιογνωσίας στο OLEOSOPHIA Olive Garden & Olive Oil Tastings\, στο Καλέντζι Κορινθίας.\n\nΗ Μαριάννα Δεβετζόγλου είναι βραβευμένη παραγωγός\, γευσιγνώστρια ελαιόλαδου και ιδρύτρια της OLEOSOPHIA. Με επιστημονικό και τεχνικό υπόβαθρο\, με μεράκι και αγάπη\, συνδυάζει το προϊόν με την εμπειρία στρέφοντας επαγγελματίες και καταναλωτές σε μία καλύτερη κατανόηση της αξίας του ελαιόλαδου\, της συνεισφοράς του στο ευ ζην μας και το ρόλο του στην γαστρονομική και όχι μόνο κουλτούρα. \n12:00-14:00 \n\nWorkshop Οινογευσίας & Wine Pairing στο Οινοποιείο SEMELI ESTATE. Στο ΚΤΗΜΑ ΣΕΜΕΛΗ κατά τη διάρκεια της επίσκεψής στο οινοποιείο\, θα ξεναγηθείτε σε κάθε γωνιά του χώρου\, από τον αμπελώνα όπου ξεκινάει κάθε χρόνο το ταξίδι του κρασιού\, στους χώρους οινοποίησης και εμφιάλωσης μέχρι το κελάρι όπου το κρασί ωριμάζει με φροντίδα και αγάπη. Θα Ακολουθήσει μια συναρπαστική εμπειρία γευσιγνωσίας\, στην κεντρική αίθουσα φιλοξενίας\, όπου οι φιλοξενούμενοι δημοσιογράφοι θα έχουν  την ευκαιρία να δοκιμάσουν μια ποικιλία από μοναδικές ετικέτες κρασιού\, τόσο νέων όσο και παλαιότερων εσοδειών. Θα μυηθούν και θα ανακαλύψουν τον κόσμο των αρωμάτων και γεύσεων των κρασιών\, σε μία εμπειρία γεύσεων που θα μείνει αξέχαστη!\n\n  \nΚυριακή – 2 Ιουνίου 2024. Η εκδήλωση θα διεξαχθεί στο Wyndham Poseidon Loutraki Hotel \n11:30 – 13:30 \n\nΓευσιγνωσία Κορινθιακού Brunch από τον σεφ του Resort\nΠαρουσίαση και Γευσιγνωσία Κορινθιακού Μελιού\nΠαρουσίαση και Γευσιγνωσία Κορινθιακής Σταφίδας\n\n15:00 16:00 \n\nΔιάπλους του Ισθμού\n\nΤο πλήρες πρόγραμμα του Taste of Loutraki και οι επιχειρήσεις που συμμετέχουν έχουν αναρτηθεί στην επίσημη ιστοσελίδα του (https://tasteofloutraki.gr/). Περιηγηθείτε και κάντε έγκαιρα την κράτησή σας!   \n
URL:https://loutraki.gov.gr/event/taste-of-loutraki-the-corinthian-food-festival-2/
CATEGORIES:Γαστρονομία
ATTACH;FMTTYPE=image/jpeg:https://loutraki.gov.gr/wp-content/uploads/2024/02/TASTE-OF-LOUTRAKI-2024.jpg
END:VEVENT
END:VCALENDAR