BEGIN:VCALENDAR
VERSION:2.0
PRODID:-//Δήμος Λουτρακίου - ECPv4.6.12//NONSGML v1.0//EN
CALSCALE:GREGORIAN
METHOD:PUBLISH
X-WR-CALNAME:Δήμος Λουτρακίου
X-ORIGINAL-URL:https://loutraki.gov.gr
X-WR-CALDESC:Events for Δήμος Λουτρακίου
BEGIN:VEVENT
DTSTART;TZID=Europe/Athens:20220320T190000
DTEND;TZID=Europe/Athens:20220320T210000
DTSTAMP:20260423T183325
CREATED:20220316T104827Z
LAST-MODIFIED:20220316T120840Z
UID:25394-1647802800-1647810000@loutraki.gov.gr
SUMMARY:Συναυλία των φιναλίστ του διαγωνισμού "Νικόλαος Δούμπας"
DESCRIPTION: Ο Δήμος Λουτρακίου – Περαχώρας – Αγίων Θεοδώρων και η Filarmoniki Loutrakiou σας προσκαλούν στη συναυλία των φιναλίστ του διαγωνισμού «Νικόλαος Δούμπας» που θα πραγματοποιηθεί την Κυριακή 20 Μαρτίου 2022 και ώρα 19.00 στην αίθουσα της Φιλαρμονικής στο Πνευματικό Κέντρο Λουτρακίου! \n
URL:https://loutraki.gov.gr/event/synaylia-ton-finalist-toy-diagonismoy-nikolaos-doympas/
LOCATION:Κολοκοτρώνη 17\, Λουτράκι\, 20300\, Ελλάδα
GEO:37.9764333;22.9785725
X-APPLE-STRUCTURED-LOCATION;VALUE=URI;X-ADDRESS=Κολοκοτρώνη 17 Λουτράκι 20300 Ελλάδα;X-APPLE-RADIUS=500;X-TITLE=Κολοκοτρώνη 17:geo:22.9785725,37.9764333
CATEGORIES:Πολιτιστικές
ATTACH;FMTTYPE=image/jpeg:https://loutraki.gov.gr/wp-content/uploads/2022/03/filarmoniki-1.jpg
ORGANIZER;CN="%CE%A6%CE%B9%CE%BB%CE%B1%CF%81%CE%BC%CE%BF%CE%BD%CE%B9%CE%BA%CE%AE%20%CE%9F%CF%81%CF%87%CE%AE%CF%83%CF%84%CF%81%CE%B1%20%CE%9B%CE%BF%CF%85%CF%84%CF%81%CE%B1%CE%BA%CE%AF%CE%BF%CF%85":MAILTO:info@loutrakiband.gr
END:VEVENT
END:VCALENDAR