BEGIN:VCALENDAR
VERSION:2.0
PRODID:-//Δήμος Λουτρακίου - ECPv4.6.12//NONSGML v1.0//EN
CALSCALE:GREGORIAN
METHOD:PUBLISH
X-WR-CALNAME:Δήμος Λουτρακίου
X-ORIGINAL-URL:https://loutraki.gov.gr
X-WR-CALDESC:Events for Δήμος Λουτρακίου
BEGIN:VEVENT
DTSTART;TZID=Europe/Athens:20190802T213000
DTEND;TZID=Europe/Athens:20190802T233000
DTSTAMP:20260422T144443
CREATED:20190702T181714Z
LAST-MODIFIED:20190702T181714Z
UID:17979-1564781400-1564788600@loutraki.gov.gr
SUMMARY:Σταύρος Σαλαμπασόπουλος
DESCRIPTION:Λίμνη Βουλιαγμένης\, Ypanema | Ώρα 21.30 \nΕίσοδος ελεύθερη\nΟ πετυχημένος τενόρος\, μαζί με την ορχήστρα του\, ταξιδεύει στο διεθνές και εγχώριο ρεπερτόριο\, συνδυάζοντας μοναδικά αγαπημένες επιτυχίες\, ευφάνταστες διασκευές\, όπερα και κινηματογράφο. Από τον Φρανκ Σινάτρα\, τον Αντρέα Μποτσέλι και τον Μισέλ Λεγκράν στους μεγάλους έλληνες Μίκη Θεοδωράκη\, Γιώργο Μουζάκη\, Μίμη Πλέσσα κ.α.\, κάνει μια μουσική περιπλάνηση γεμάτη νοσταλγία\, συναίσθημα και καλοκαίρι!\nΣταύρος Σαλαμπασόπουλος: τραγούδι\nΓιώργος Τσοκάνης: πλήκτρα/ενορχηστρώσεις \nΜαρίνα Τσοκάνη: πλήκτρα\nΘοδωρής Χριστοδούλου: τύμπανα  \n
URL:https://loutraki.gov.gr/event/stayros-salampasopoylos/
LOCATION:Λίμνη Βουλιαγμένης\, ΛΟΥΤΡΑΚΙ\, Κορινθία\, 20300
GEO:38.0327645;22.8730445
X-APPLE-STRUCTURED-LOCATION;VALUE=URI;X-ADDRESS=Λίμνη Βουλιαγμένης ΛΟΥΤΡΑΚΙ Κορινθία 20300;X-APPLE-RADIUS=500;X-TITLE=Λίμνη Βουλιαγμένης:geo:22.8730445,38.0327645
CATEGORIES:Loutraki Festival 2019,Πολιτιστικές
ATTACH;FMTTYPE=image/jpeg:https://loutraki.gov.gr/wp-content/uploads/2019/07/unnamed-5.jpg
END:VEVENT
END:VCALENDAR