BEGIN:VCALENDAR
VERSION:2.0
PRODID:-//Δήμος Λουτρακίου - ECPv4.6.12//NONSGML v1.0//EN
CALSCALE:GREGORIAN
METHOD:PUBLISH
X-WR-CALNAME:Δήμος Λουτρακίου
X-ORIGINAL-URL:https://loutraki.gov.gr
X-WR-CALDESC:Events for Δήμος Λουτρακίου
BEGIN:VEVENT
DTSTART;VALUE=DATE:20180720
DTEND;VALUE=DATE:20180723
DTSTAMP:20260425T105724
CREATED:20180719T201028Z
LAST-MODIFIED:20180719T201128Z
UID:16213-1532044800-1532303999@loutraki.gov.gr
SUMMARY:ΣΤΑ ΣΤΑΥΡΟΔΡΟΜΙΑ ΤΟΥ ΚΟΣΜΟΥ
DESCRIPTION:Ο Δήμος Βέλου Βόχας\, ο Δήμος Λουτρακίου – Περαχώρας – Αγίων Θεοδώρων\, το Σωματείο Λόγου και Τέχνης ‘Αλκυονίδες’ και ο Πολιτιστικός Σύλλογος Ηπειρωτών Κορινθίας «Η Πίνδος» διοργανώνουν το Δ΄ Διεθνές Απάνθισμα Λογοτεχνίας «ΣΤΑ ΣΤΑΥΡΟΔΡΟΜΙΑ ΤΟΥ ΚΟΣΜΟΥ».\nΠαρασκευή 20 Ιουλίου Ι ώρα 8.30 μ.μ. Ι Δημοτικό Σχολείο Βέλου\nΣάββατο 21 & Κυριακή 22 Ιουλίου Ι ώρα 8.30 μ.μ. Ι ΠΑΡΚΟ ΔΕΞΑΜΕΝΗΣ\, Θέατρο «Παντελής Ζερβός»\, Λουτράκι \n \n
URL:https://loutraki.gov.gr/event/sta-stayrodromia-toy-kosmoy/
CATEGORIES:Πολιτιστικές
ATTACH;FMTTYPE=image/jpeg:https://loutraki.gov.gr/wp-content/uploads/2018/07/37193462_1622689334521098_3418031804194488320_n.jpg
END:VEVENT
END:VCALENDAR