BEGIN:VCALENDAR
VERSION:2.0
PRODID:-//Δήμος Λουτρακίου - ECPv4.6.12//NONSGML v1.0//EN
CALSCALE:GREGORIAN
METHOD:PUBLISH
X-WR-CALNAME:Δήμος Λουτρακίου
X-ORIGINAL-URL:https://loutraki.gov.gr
X-WR-CALDESC:Events for Δήμος Λουτρακίου
BEGIN:VEVENT
DTSTART;TZID=Europe/Athens:20250621T193000
DTEND;TZID=Europe/Athens:20250621T193000
DTSTAMP:20260421T202240
CREATED:20250613T084345Z
LAST-MODIFIED:20250613T085130Z
UID:31829-1750534200-1750534200@loutraki.gov.gr
SUMMARY:Σπάζοντας τη Σιωπή
DESCRIPTION:\n «Σπάζοντας τη Σιωπή» – Η Τέχνη & ο Λόγος απέναντι στην Ενδοοικογενειακή Βία\n\n\nΟ Εξωραϊστικός και Εκπολιτιστικός Σύλλογος Καλαμακίου σας προσκαλεί σε μια ξεχωριστή πολιτιστική εκδήλωση αφιερωμένη στη δύναμη του λόγου και της τέχνης ως μέσα ευαισθητοποίησης και αφύπνισης απέναντι στην ενδοοικογενειακή βία.\n\n\n Σάββατο 21 Ιουνίου 2025 |  19:30\n Παλαιό Δημοτικό Σχολείο Καλαμακίου (έδρα του Συλλόγου)\n\n\n Ομιλίες από ψυχολόγους\, κοινωνικούς λειτουργούς\, εκπροσώπους της ΕΛ.ΑΣ.\n Καλλιτεχνικά δρώμενα & εκθέσεις\n Συμμετοχή φορέων και δημιουργικών ομάδων\n\n\n Ας στείλουμε όλοι ένα ηχηρό μήνυμα: Η βία δεν έχει θέση στην οικογένεια και στην κοινωνία.\n\n\nΥπό την αιγίδα του Δήμου Λουτρακίου – Περαχώρας – Αγ. Θεοδώρων.\n\n
URL:https://loutraki.gov.gr/event/spazontas-ti-siopi/
CATEGORIES:Εκπαιδευτικές
ATTACH;FMTTYPE=image/jpeg:https://loutraki.gov.gr/wp-content/uploads/2025/06/505303159_1151654933662691_2238958843619668636_n.jpg
END:VEVENT
END:VCALENDAR