BEGIN:VCALENDAR
VERSION:2.0
PRODID:-//Δήμος Λουτρακίου - ECPv4.6.12//NONSGML v1.0//EN
CALSCALE:GREGORIAN
METHOD:PUBLISH
X-WR-CALNAME:Δήμος Λουτρακίου
X-ORIGINAL-URL:https://loutraki.gov.gr
X-WR-CALDESC:Events for Δήμος Λουτρακίου
BEGIN:VEVENT
DTSTART;TZID=Europe/Athens:20210805T213000
DTEND;TZID=Europe/Athens:20210805T213000
DTSTAMP:20260423T222532
CREATED:20210802T135758Z
LAST-MODIFIED:20210802T135940Z
UID:24146-1628199000-1628199000@loutraki.gov.gr
SUMMARY:Rock Festival
DESCRIPTION:\nΣε μια ειδυλλιακή τοποθεσία στους Αγίους Θεοδώρους το Loutraki Festival εγκαινίασε για πρώτη φορά τη συνάντηση ροκ συγκροτημάτων το 2015. Η διοργάνωση έχει σκοπό να προσφέρει βήμα καλλιτεχνικής έκφρασης σε νέους μουσικούς\, ερασιτεχνικά συγκροτήματα αλλά και επαγγελματίες του είδους\, δίνοντας τους την ευκαιρία να επικοινωνούν άμεσα με το κοινό. Σκοπός του Φεστιβάλ είναι να αναδειχθεί το τοπικό μουσικό στοιχείο αλλά και να καθιερωθούν οι άγιοι Θεόδωροι ως τόπος συνάντησης ροκ συγκροτημάτων. \nΠότε: Πέμπτη 5 Αυγούστου 2021\nΠου: Πλατεία Σημίτη\, Άγιοι Θεόδωροι\nΏρα: 21.30\nΕίσοδος Ελεύθερη \n
URL:https://loutraki.gov.gr/event/rock-festival-2/
LOCATION:37\,927469\, 23\,141959
ATTACH;FMTTYPE=image/png:https://loutraki.gov.gr/wp-content/uploads/2021/08/back-2021-dr.png
END:VEVENT
END:VCALENDAR