BEGIN:VCALENDAR
VERSION:2.0
PRODID:-//Δήμος Λουτρακίου - ECPv4.6.12//NONSGML v1.0//EN
CALSCALE:GREGORIAN
METHOD:PUBLISH
X-WR-CALNAME:Δήμος Λουτρακίου
X-ORIGINAL-URL:https://loutraki.gov.gr
X-WR-CALDESC:Events for Δήμος Λουτρακίου
BEGIN:VEVENT
DTSTART;TZID=Europe/Athens:20240719T200000
DTEND;TZID=Europe/Athens:20240719T200000
DTSTAMP:20260422T150015
CREATED:20240708T112903Z
LAST-MODIFIED:20240708T113530Z
UID:29959-1721419200-1721419200@loutraki.gov.gr
SUMMARY:Προστασία των Πολιτών από τις Δασικές Πυρκαγιές και η σημασία προετοιμασίας των κατοικιών
DESCRIPTION:\n O Δήμος Λουτρακίου – Περαχώρας – Αγίων Θεοδώρων σε συνεργασία με τον ΕΛΓΟ ΔΗΜΗΤΡΑ οργανώνουν μια σειρά συναντήσεων με στόχο να ενημερώσουν τους πολίτες για την προστασία τους από τις δασικές πυρκαγιές.\n\n\n Ομιλητής ο Δρ. Μιλτιάδης Αθανασίου\, ειδικός στις δασικές πυρκαγιές και εντεταλμένος Ερευνητής στο Ινστιτούτο Μεσογειακών Δασικών Οικοσυστημάτων του ΕΛΓΟ ΔΗΜΗΤΡΑ.\n\n\n\n\n
URL:https://loutraki.gov.gr/event/prostasia-ton-politon-apo-tis-dasikes-pyrkagies-kai-i-simasia-proetoimasias-ton-katoikion-2/
CATEGORIES:Περιβαλλοντικές
ATTACH;FMTTYPE=image/jpeg:https://loutraki.gov.gr/wp-content/uploads/2024/07/ΠΠ_Σειρά-Συναντήσεων_003.jpg
END:VEVENT
END:VCALENDAR