BEGIN:VCALENDAR
VERSION:2.0
PRODID:-//Δήμος Λουτρακίου - ECPv4.6.12//NONSGML v1.0//EN
CALSCALE:GREGORIAN
METHOD:PUBLISH
X-WR-CALNAME:Δήμος Λουτρακίου
X-ORIGINAL-URL:https://loutraki.gov.gr
X-WR-CALDESC:Events for Δήμος Λουτρακίου
BEGIN:VEVENT
DTSTART;VALUE=DATE:20190330
DTEND;VALUE=DATE:20190401
DTSTAMP:20260425T002441
CREATED:20190328T225326Z
LAST-MODIFIED:20190328T225326Z
UID:17562-1553904000-1554076799@loutraki.gov.gr
SUMMARY:Προκριματικός Αγώνας Τραμπολίνο Συλλόγων και Ατομικού
DESCRIPTION:Από την Ε .Γ .Ο . προκηρύσσεται ο Περιφερειακός Αγώνας Τραμπολίνο 1-4 Επιπέδων και ο\nΠροκριματικός Αγώνας Τραμπολίνο Συλλόγων και Ατομικού Α ́- Β ́- Γ ́- Δ’ κατηγοριών Α\nπεριφέρειας.\n ΤΟΠΟΣ ΚΑΙ ΧΡΟΝΟΣ ΤΕΛΕΣΗΣ\nΟι αγώνες θα διεξαχθούν στους Αγίους Θεοδώρους\, στο Κλειστό Γυμναστήριο Αγ.Θεοδώρων «\nΚρομμυώνιο»\, στις 30-31 Μαρτίου 2019. \nΔείτε ΕΔΩ την προκήρυξη  \nΔείτε ΕΔΩ το πρόγραμμα προπόνησης και αγώνων \n
URL:https://loutraki.gov.gr/event/prokrimatikos-agonas-trampolino-syllogon-kai-atomikoy/
LOCATION:Αγ\, Θεόδωροι\, Κορινθία\, 20003\, Ελλάδα
GEO:37.9322239;23.1385086
CATEGORIES:Αθλητικές
ATTACH;FMTTYPE=image/jpeg:https://loutraki.gov.gr/wp-content/uploads/2019/03/trampoline-detail-double-mini-08-750x390.jpg
END:VEVENT
END:VCALENDAR