BEGIN:VCALENDAR
VERSION:2.0
PRODID:-//Δήμος Λουτρακίου - ECPv4.6.12//NONSGML v1.0//EN
CALSCALE:GREGORIAN
METHOD:PUBLISH
X-WR-CALNAME:Δήμος Λουτρακίου
X-ORIGINAL-URL:https://loutraki.gov.gr
X-WR-CALDESC:Events for Δήμος Λουτρακίου
BEGIN:VEVENT
DTSTART;TZID=Europe/Athens:20220409T080000
DTEND;TZID=Europe/Athens:20220410T170000
DTSTAMP:20260423T194924
CREATED:20220329T102114Z
LAST-MODIFIED:20220407T142801Z
UID:25480-1649491200-1649610000@loutraki.gov.gr
SUMMARY:Προκριματικός Αγώνας Τραμπολίνο Α-Β-Γ-Δ Κατηγοριών & Περιφερειακός Αγώνας Επιπέδων 1-4 (Α' Περιφέρειας)
DESCRIPTION:Από την Ε.Γ.Ο. προκηρύσσεται ο Προκριματικός Αγώνας Τραμπολίνο Συλλόγων και Ατομικού Α΄-Β΄-Γ΄-Δ΄ κατηγοριών 5ου Επιπέδου και Περιφερειακός Αγώνας Τραμπολίνο Επιπέδων 1-4\, A’ περιφέρειας. Ο αγώνας θα διεξαχθεί σύμφωνα με το επικαιροποιημένο υγειονομικό πρωτόκολλο διεξαγωγής αγώνων της Ε.Γ.Ο. και με τους παρακάτω όρους και διατάξεις. \n\n1. ΤΟΠΟΣ ΚΑΙ ΧΡΟΝΟΣ ΤΕΛΕΣΗΣ\nΟι αγώνες θα διεξαχθούν στους Αγίους Θεοδώρους\, στο Δημοτικό Κλειστό Γυμναστήριο Αγίων Θεοδώρων «ΚΡΟΜΜΥΩΝΙΟ»\, στις 09-10 Απριλίου 2022. \n\n2. ΠΡΟΓΡΑΜΜΑ ΑΓΩΝΩΝ\nΟι αθλητές-τριες θα αγωνισθούν σε υποχρεωτικά και ελεύθερα προγράμματα στα παρακάτω αγωνίσματα\, σύμφωνα με τον Διεθνή Κώδικα βαθμολογίας της F.I.G. και τις τροποποιήσεις που έχουν εφαρμοστεί για την Ελλάδα όπως αυτές αναφέρονται στον εσωτερικό κανονισμό Τραμπολίνο 2022 που έχει εκδώσει η Ε.Γ.Ο. \n\nΚΑΤΗΓΟΡΙΑ\nΑΝΔΡΩΝ-ΓΥΝΑΙΚΩΝ\nΕΦΗΒΩΝ-ΝΕΑΝΙΔΩΝ\nΠΑΙΔΩΝ -ΚΟΡΑΣΙΔΩΝ\nΠΑΜΠΑΙΔΩΝ – ΠΑΓΚΟΡΑΣΙΔΩΝ Α΄\nΠΑΜΠΑΙΔΩΝ – ΠΑΓΚΟΡΑΣΙΔΩΝ Β’ \nΟΡΓΑΝΑ\nΤΡΑΜΠΟΛΙΝΟ\nΔΙΠΛΟ ΜΙΝΙΤΡΑΜΠ \n\n3. ΟΡΓΑΝΑ\nΟι διαστάσεις των οργάνων είναι σύμφωνα με το Διεθνή Κώδικα Βαθμολογίας της F.I.G. όπως έχει κοινοποιηθεί με τους κανονισμούς Τραμπολίνο. \nΔείτε την προκήρυξη εδώ \n\nΔείτε ΕΔΩ το πρόγραμμα των αγώνων \n
URL:https://loutraki.gov.gr/event/prokrimatikos-agonas-trampolino-syllogon-kai-atomikoy-a-v-g-d-katigorion-5oy-epipedoy-perifereiakos-agonas-epipedon-1-4-a-perifereias/
LOCATION:Αγ\, Θεόδωροι\, Κορινθία\, 20003\, Ελλάδα
GEO:37.9322239;23.1385086
CATEGORIES:Αθλητικές
ATTACH;FMTTYPE=image/jpeg:https://loutraki.gov.gr/wp-content/uploads/2022/03/ΑΓΩΝΑΣ-ΤΡΑΜΠΟΛΙΝΟ-2022.jpg
ORGANIZER;CN="%CE%95%CE%BB%CE%BB%CE%B7%CE%BD%CE%B9%CE%BA%CE%AE%20%CE%93%CF%85%CE%BC%CE%BD%CE%B1%CF%83%CF%84%CE%B9%CE%BA%CE%AE%20%CE%9F%CE%BC%CE%BF%CF%83%CF%80%CE%BF%CE%BD%CE%B4%CE%AF%CE%B1":MAILTO:ego@otenet.gr
END:VEVENT
END:VCALENDAR