BEGIN:VCALENDAR
VERSION:2.0
PRODID:-//Δήμος Λουτρακίου - ECPv4.6.12//NONSGML v1.0//EN
CALSCALE:GREGORIAN
METHOD:PUBLISH
X-WR-CALNAME:Δήμος Λουτρακίου
X-ORIGINAL-URL:https://loutraki.gov.gr
X-WR-CALDESC:Events for Δήμος Λουτρακίου
BEGIN:VEVENT
DTSTART;TZID=Europe/Athens:20190629T200000
DTEND;TZID=Europe/Athens:20190629T230000
DTSTAMP:20260424T171504
CREATED:20190624T224110Z
LAST-MODIFIED:20190624T224110Z
UID:17897-1561838400-1561849200@loutraki.gov.gr
SUMMARY:Ποιητική βραδιά
DESCRIPTION:\n		\n			#gallery-1 {\n				margin: auto;\n			}\n			#gallery-1 .gallery-item {\n				float: left;\n				margin-top: 10px;\n				text-align: center;\n				width: 100%;\n			}\n			#gallery-1 img {\n				border: 2px solid #cfcfcf;\n			}\n			#gallery-1 .gallery-caption {\n				margin-left: 0;\n			}\n			/* see gallery_shortcode() in wp-includes/media.php */\n		\n		\n			\n				\n			\n		\n\n
URL:https://loutraki.gov.gr/event/poiitiki-vradia/
LOCATION:Οικονόμου 3 & Τομπάζη\, Λουτράκι\, Κορινθία\, 20300\, Ελλάδα
GEO:37.9724674;22.9770054
X-APPLE-STRUCTURED-LOCATION;VALUE=URI;X-ADDRESS=Οικονόμου 3 & Τομπάζη Λουτράκι Κορινθία 20300 Ελλάδα;X-APPLE-RADIUS=500;X-TITLE=Οικονόμου 3 & Τομπάζη:geo:22.9770054,37.9724674
CATEGORIES:Πολιτιστικές
ATTACH;FMTTYPE=image/jpeg:https://loutraki.gov.gr/wp-content/uploads/2019/06/ΠΟΙΗΤΙΚΗ_ΒΡΑΔΙΑ.jpg
END:VEVENT
END:VCALENDAR