BEGIN:VCALENDAR
VERSION:2.0
PRODID:-//Δήμος Λουτρακίου - ECPv4.6.12//NONSGML v1.0//EN
CALSCALE:GREGORIAN
METHOD:PUBLISH
X-WR-CALNAME:Δήμος Λουτρακίου
X-ORIGINAL-URL:https://loutraki.gov.gr
X-WR-CALDESC:Events for Δήμος Λουτρακίου
BEGIN:VEVENT
DTSTART;TZID=Europe/Athens:20190710T200000
DTEND;TZID=Europe/Athens:20190710T220000
DTSTAMP:20260424T185454
CREATED:20190704T123148Z
LAST-MODIFIED:20190704T123148Z
UID:18017-1562788800-1562796000@loutraki.gov.gr
SUMMARY:Παρουσίαση βιβλίου "Σωστό ή Λάθος" της συγγραφέα Αγγελική Πέτρου
DESCRIPTION:Σας περιμένουμε όλους στην παρουσίαση του βιβλίου της συγγραφέως Αγγελικής Πέτρου\, με τίτλο «Σωστό ή Λάθος» που θα πραγματοποιηθεί στην Δημοτική Βιβλιοθήκη Λουτρακίου\, την Τετάρτη 10 Ιουλίου και ώρα 20:00 \n
URL:https://loutraki.gov.gr/event/paroysiasi-vivlioy-sosto-i-lathos-tis-syggrafea-aggeliki-petroy/
LOCATION:Οικονόμου 3 & Τομπάζη\, Λουτράκι\, Κορινθία\, 20300\, Ελλάδα
GEO:37.9724674;22.9770054
X-APPLE-STRUCTURED-LOCATION;VALUE=URI;X-ADDRESS=Οικονόμου 3 & Τομπάζη Λουτράκι Κορινθία 20300 Ελλάδα;X-APPLE-RADIUS=500;X-TITLE=Οικονόμου 3 & Τομπάζη:geo:22.9770054,37.9724674
CATEGORIES:Πολιτιστικές
ATTACH;FMTTYPE=image/jpeg:https://loutraki.gov.gr/wp-content/uploads/2019/07/65377222_1318815004953291_7907142226247942144_n.jpg
END:VEVENT
END:VCALENDAR