BEGIN:VCALENDAR
VERSION:2.0
PRODID:-//Δήμος Λουτρακίου - ECPv4.6.12//NONSGML v1.0//EN
CALSCALE:GREGORIAN
METHOD:PUBLISH
X-WR-CALNAME:Δήμος Λουτρακίου
X-ORIGINAL-URL:https://loutraki.gov.gr
X-WR-CALDESC:Events for Δήμος Λουτρακίου
BEGIN:VEVENT
DTSTART;TZID=Europe/Athens:20260509T193000
DTEND;TZID=Europe/Athens:20260509T213000
DTSTAMP:20260424T130825
CREATED:20260424T094104Z
LAST-MODIFIED:20260424T094104Z
UID:33148-1778355000-1778362200@loutraki.gov.gr
SUMMARY:ΠΑΡΟΥΣΙΑΣΗ ΒΙΒΛΙΟΥ
DESCRIPTION:\n\n\n\n\n\n\n\nΣας προσκαλούμε στην παρουσίαση του βιβλίου με τίτλο : ΈΛΛΗΝΑΣ ΝΑΥΤΙΚΟΣ \, ένας πολίτης του κόσμου . Του συντοπίτη μας Νίκου Δενδρινου \, που θα γίνει στην Δημοτική Βιβλιοθήκη Αγίων Θεοδώρων\, το Σάββατο 9 Μαΐου και ώρα 19:30 σας περιμένουμε!!!\n\n\n\n\n\n\n\n\n \n\n\n\n\n\n\n\n\n\n\n \n \n \n\n\n\n\n\n\n\n
URL:https://loutraki.gov.gr/event/paroysiasi-vivlioy-6/
LOCATION:Δημητρίου Στάμου\, Αγ\, Θεόδωροι\, Κορινθία\, 20300
CATEGORIES:Πολιτιστικές
ATTACH;FMTTYPE=image/jpeg:https://loutraki.gov.gr/wp-content/uploads/2026/04/677899242_939808208681996_6506397319392970475_n.jpg
END:VEVENT
END:VCALENDAR