BEGIN:VCALENDAR
VERSION:2.0
PRODID:-//Δήμος Λουτρακίου - ECPv4.6.12//NONSGML v1.0//EN
CALSCALE:GREGORIAN
METHOD:PUBLISH
X-WR-CALNAME:Δήμος Λουτρακίου
X-ORIGINAL-URL:https://loutraki.gov.gr
X-WR-CALDESC:Events for Δήμος Λουτρακίου
BEGIN:VEVENT
DTSTART;TZID=Europe/Athens:20210724T193000
DTEND;TZID=Europe/Athens:20210724T223000
DTSTAMP:20260423T235908
CREATED:20210720T085828Z
LAST-MODIFIED:20210720T085828Z
UID:23982-1627155000-1627165800@loutraki.gov.gr
SUMMARY:Παρουσίαση Βιβλίου
DESCRIPTION:\nΟ Δήμος Λουτρακίου – Περαχώρας – Αγίων Θεοδώρων σας προσκαλεί στην εκδήλωση – παρουσίαση του βιβλίου του Νίκου Δενδρινού «Στα εφηβικά μας χρόνια»\n Σάββατο 24 Ιουλίου 2021\n Προαύλειος χώρος Βιβλιοπωλείου «Δήμητρα»\, Άγιοι Θεόδωροι\n 8.30 μ.μ.\nΓια το βιβλίο θα μιλήσουν η Ποιήτρια & Συγγραφέας κ. Μαργαρίτα Ματάτση και ο Συγγραφέας του βιβλίου κ. Νίκος Δενδρινός.\n\n\n————-\nΚατά τη διάρκεια της εκδήλωσης θα τηρηθούν όλα τα μέτρα προστασίας από τον COVID-19 που προβλέπουν οι ελληνικές υγειονομικές αρχές.\n\n
URL:https://loutraki.gov.gr/event/paroysiasi-vivlioy-3/
ATTACH;FMTTYPE=image/jpeg:https://loutraki.gov.gr/wp-content/uploads/2021/07/ΠΑΡΟΥΣΙΑΣΗ-ΒΙΒΛΙΟΥ_ΔΕΝΔΡΙΝΟΣ_24072021.jpg
END:VEVENT
END:VCALENDAR