BEGIN:VCALENDAR
VERSION:2.0
PRODID:-//Δήμος Λουτρακίου - ECPv4.6.12//NONSGML v1.0//EN
CALSCALE:GREGORIAN
METHOD:PUBLISH
X-WR-CALNAME:Δήμος Λουτρακίου
X-ORIGINAL-URL:https://loutraki.gov.gr
X-WR-CALDESC:Events for Δήμος Λουτρακίου
BEGIN:VEVENT
DTSTART;TZID=Europe/Athens:20191012T190000
DTEND;TZID=Europe/Athens:20191012T190000
DTSTAMP:20260424T131433
CREATED:20191003T071808Z
LAST-MODIFIED:20191003T071808Z
UID:18583-1570906800-1570906800@loutraki.gov.gr
SUMMARY:Παρουσίαση Βιβλίου
DESCRIPTION:Το Διεθνές Κέντρο Αρχαίων Μελετών της Πομπηίας\, \nη Επιστημονική Ομάδα της Ρωμαϊκής Έπαυλης Λουτρακίου  \nκαι ο Δήμος Λουτρακίου – Περαχώρας – Αγίων Θεοδώρων \nσας προσκαλούν στην \nΠαρουσίαση του εναλλακτικού ταξιδιωτικού οδηγού για την Πελοπόννησο. \n\nΗ διαδρομή του Φειδιππίδη στους δρόμους του κρασιού \nμε ξεναγό τον Παυσανία \nτης Κατερίνας Γραμματικού. \n\nΘα προλογίσει ο αρχαιολόγος Κωνσταντίνος Τζιαμπάσης. \n\nΑποσπάσματα από το βιβλίο θα διαβάσει η Αρρήτη Κεχαγιά. \nΤην εκδήλωση επιμελείται μουσικά ο Κων/νος Κουμάκης. \nΘα ακολουθήσει γευσιγνωσία κρασιών από γνωστά οινοποιεία της περιοχής. \n  \n
URL:https://loutraki.gov.gr/event/paroysiasi-vivlioy-2/
LOCATION:Οικονόμου 3 & Τομπάζη\, Λουτράκι\, Κορινθία\, 20300\, Ελλάδα
GEO:37.9724674;22.9770054
X-APPLE-STRUCTURED-LOCATION;VALUE=URI;X-ADDRESS=Οικονόμου 3 & Τομπάζη Λουτράκι Κορινθία 20300 Ελλάδα;X-APPLE-RADIUS=500;X-TITLE=Οικονόμου 3 & Τομπάζη:geo:22.9770054,37.9724674
CATEGORIES:Πολιτιστικές
ATTACH;FMTTYPE=image/jpeg:https://loutraki.gov.gr/wp-content/uploads/2019/10/71772863_468053073792683_5853709385548693504_n.jpg
END:VEVENT
END:VCALENDAR