BEGIN:VCALENDAR
VERSION:2.0
PRODID:-//Δήμος Λουτρακίου - ECPv4.6.12//NONSGML v1.0//EN
CALSCALE:GREGORIAN
METHOD:PUBLISH
X-WR-CALNAME:Δήμος Λουτρακίου
X-ORIGINAL-URL:https://loutraki.gov.gr
X-WR-CALDESC:Events for Δήμος Λουτρακίου
BEGIN:VEVENT
DTSTART;TZID=Europe/Athens:20230513T180000
DTEND;TZID=Europe/Athens:20230513T193000
DTSTAMP:20260423T064859
CREATED:20230504T104505Z
LAST-MODIFIED:20230504T104505Z
UID:27798-1684000800-1684006200@loutraki.gov.gr
SUMMARY:Παρουσίαση του βιβλίου "Άλκηστη" της Μαρίας Κέιτζ!-Εκδόσεις Ελκυστής
DESCRIPTION: \n
URL:https://loutraki.gov.gr/event/paroysiasi-toy-vivlioy-alkisti-tis-marias-keitz-ekdoseis-elkystis/
LOCATION:Οικονόμου 3 & Τομπάζη\, Λουτράκι\, Κορινθία\, 20300\, Ελλάδα
GEO:37.9724674;22.9770054
X-APPLE-STRUCTURED-LOCATION;VALUE=URI;X-ADDRESS=Οικονόμου 3 & Τομπάζη Λουτράκι Κορινθία 20300 Ελλάδα;X-APPLE-RADIUS=500;X-TITLE=Οικονόμου 3 & Τομπάζη:geo:22.9770054,37.9724674
CATEGORIES:Πολιτιστικές
ATTACH;FMTTYPE=image/jpeg:https://loutraki.gov.gr/wp-content/uploads/2023/05/Αφίσα-παρουσίασης-Άλκηστη.jpg
END:VEVENT
END:VCALENDAR