BEGIN:VCALENDAR
VERSION:2.0
PRODID:-//Δήμος Λουτρακίου - ECPv4.6.12//NONSGML v1.0//EN
CALSCALE:GREGORIAN
METHOD:PUBLISH
X-WR-CALNAME:Δήμος Λουτρακίου
X-ORIGINAL-URL:https://loutraki.gov.gr
X-WR-CALDESC:Events for Δήμος Λουτρακίου
BEGIN:VEVENT
DTSTART;TZID=Europe/Athens:20190930T190000
DTEND;TZID=Europe/Athens:20190930T190000
DTSTAMP:20260424T131316
CREATED:20190913T082540Z
LAST-MODIFIED:20190918T085856Z
UID:18446-1569870000-1569870000@loutraki.gov.gr
SUMMARY:Παρουσίαση Λευκώματος
DESCRIPTION:Ο Δήμος Λουτρακίου – Περαχώρας – Αγίων Θεοδώρων \nκαι η Εκδοτική εταιρεία WELCOME\, \nσυνδιοργανώνουν και σας προσκαλούν στην τιμητική εκδήλωση  \nΠαρουσίαση του Λευκώματος \n  \n«Μυστικά και… άλλες αποκαλύψεις» \nγια τον θρύλο του Ελληνικού Ποδοσφαίρου \nΜίμη Δομάζο \n  \nΔευτέρα 30 Σεπτεμβρίου 2019 και ώρα 7.00 μ.μ. \nστη Δημοτική Βιβλιοθήκη Λουτρακίου \n(Οικονόμου & Τομπάζη\, Λουτράκι) \nΕΙΣΟΔΟΣ ΕΛΕΥΘΕΡΗ \n
URL:https://loutraki.gov.gr/event/paroysiasi-leykomatos/
LOCATION:Οικονόμου 3 & Τομπάζη\, Λουτράκι\, Κορινθία\, 20300\, Ελλάδα
GEO:37.9724674;22.9770054
X-APPLE-STRUCTURED-LOCATION;VALUE=URI;X-ADDRESS=Οικονόμου 3 & Τομπάζη Λουτράκι Κορινθία 20300 Ελλάδα;X-APPLE-RADIUS=500;X-TITLE=Οικονόμου 3 & Τομπάζη:geo:22.9770054,37.9724674
CATEGORIES:Πολιτιστικές
ATTACH;FMTTYPE=image/jpeg:https://loutraki.gov.gr/wp-content/uploads/2019/09/ΜΙΜΗΣ-ΔΟΜΑΖΟΣ_afissa-loutraki.jpg
END:VEVENT
END:VCALENDAR