BEGIN:VCALENDAR
VERSION:2.0
PRODID:-//Δήμος Λουτρακίου - ECPv4.6.12//NONSGML v1.0//EN
CALSCALE:GREGORIAN
METHOD:PUBLISH
X-WR-CALNAME:Δήμος Λουτρακίου
X-ORIGINAL-URL:https://loutraki.gov.gr
X-WR-CALDESC:Events for Δήμος Λουτρακίου
BEGIN:VEVENT
DTSTART;TZID=Europe/Athens:20250725T203000
DTEND;TZID=Europe/Athens:20250725T223000
DTSTAMP:20260421T171428
CREATED:20250709T131833Z
LAST-MODIFIED:20250710T101055Z
UID:31965-1753475400-1753482600@loutraki.gov.gr
SUMMARY:Παρουσίαση γεωργιανών χορών
DESCRIPTION: \n
URL:https://loutraki.gov.gr/event/paroysiasi-georgianon-choron/
LOCATION:Πάρκο Δεξαμενής\, Λουτράκι\, 20300\, Ελλάδα
GEO:37.9727548;22.9858004
X-APPLE-STRUCTURED-LOCATION;VALUE=URI;X-ADDRESS=Πάρκο Δεξαμενής Λουτράκι 20300 Ελλάδα;X-APPLE-RADIUS=500;X-TITLE=Πάρκο Δεξαμενής:geo:22.9858004,37.9727548
CATEGORIES:Πολιτιστικές
ATTACH;FMTTYPE=image/png:https://loutraki.gov.gr/wp-content/uploads/2025/07/20250709_110142.png
END:VEVENT
END:VCALENDAR