BEGIN:VCALENDAR
VERSION:2.0
PRODID:-//Δήμος Λουτρακίου - ECPv4.6.12//NONSGML v1.0//EN
CALSCALE:GREGORIAN
METHOD:PUBLISH
X-WR-CALNAME:Δήμος Λουτρακίου
X-ORIGINAL-URL:https://loutraki.gov.gr
X-WR-CALDESC:Events for Δήμος Λουτρακίου
BEGIN:VEVENT
DTSTART;TZID=Europe/Athens:20221218T110000
DTEND;TZID=Europe/Athens:20221218T140000
DTSTAMP:20260423T103227
CREATED:20221201T113550Z
LAST-MODIFIED:20221214T113717Z
UID:26846-1671361200-1671372000@loutraki.gov.gr
SUMMARY:Παραμυθένια Χριστούγεννα
DESCRIPTION:\nΟ Δήμος Λουτρακίου – Περαχώρας – Αγίων Θεοδώρων και ο Πολιτιστικός Σύλλογος Λουτρακίου σας προσκαλούν σε μια εκδήλωση αφιερωμένη στους μικρούς μας φίλους\, με αφήγηση και αναπαράσταση παραμυθιών με διαδραστικό τρόπο από θεατρολόγο\, γεμάτη μουσικοκινητικά παιχνίδια\, εργαστήρι Χριστουγεννιάτικων κατασκευών\, κάλαντα\, χορούς και τραγούδια και κεράσματα για όλους.\n\n\nΗ Δημοτική Βιβλιοθήκη Λουτρακίου μετατρέπεται σε μια μαγική παραμυθοχώρα για να υποδεχθεί τους μικρούς μας φίλους\, την Κυριακή 18 Δεκεμβρίου 2022 και ώρα 11:00.\n\n\nΣας περιμένουμε όλους!\n\n
URL:https://loutraki.gov.gr/event/paramythenia-christoygenna/
LOCATION:Οικονόμου 3 & Τομπάζη\, Λουτράκι\, Κορινθία\, 20300\, Ελλάδα
GEO:37.9724674;22.9770054
X-APPLE-STRUCTURED-LOCATION;VALUE=URI;X-ADDRESS=Οικονόμου 3 & Τομπάζη Λουτράκι Κορινθία 20300 Ελλάδα;X-APPLE-RADIUS=500;X-TITLE=Οικονόμου 3 & Τομπάζη:geo:22.9770054,37.9724674
CATEGORIES:Πολιτιστικές,Χριστούγεννα 2022
ATTACH;FMTTYPE=image/jpeg:https://loutraki.gov.gr/wp-content/uploads/2022/12/ΑΦΙΣΑ-18.12.2022.jpg
END:VEVENT
END:VCALENDAR