BEGIN:VCALENDAR
VERSION:2.0
PRODID:-//Δήμος Λουτρακίου - ECPv4.6.12//NONSGML v1.0//EN
CALSCALE:GREGORIAN
METHOD:PUBLISH
X-WR-CALNAME:Δήμος Λουτρακίου
X-ORIGINAL-URL:https://loutraki.gov.gr
X-WR-CALDESC:Events for Δήμος Λουτρακίου
BEGIN:VEVENT
DTSTART;TZID=Europe/Athens:20230423T100000
DTEND;TZID=Europe/Athens:20230423T130000
DTSTAMP:20260423T082036
CREATED:20230419T093518Z
LAST-MODIFIED:20230419T100441Z
UID:27675-1682244000-1682254800@loutraki.gov.gr
SUMMARY:Παραδοσιακοί χοροί και τραγούδια από τον Πολιτιστικό Σύλλογο Λουτρακίου "ΜΕΛΑΓΚΑΒΙ"
DESCRIPTION:Όπως κάθε χρόνο έτσι και φέτος\, την Κυριακή του Θωμά\, μετά το τέλος της Θείας Λειτουργίας\, στον προαύλιο χώρο του Ιερού Ναού Παναγίας Γιάτρισσας\, μέσα σε μια πασχαλινή ατμόσφαιρα με έντονα εορταστική διάθεση\, τόσο το παιδικό όσο και το τμήμα ενηλίκων του Πολιτιστικού Συλλόγου Λουτρακίου «Μελαγκάβι» θα παρουσιάσουν χορούς και τραγούδια από διάφορες περιοχές της Ελλάδος…\nΜετά το τέλος της εκδήλωσης θα ακολουθήσει ελεύθερος χορός και γλέντι καθώς και ένα μικρό κέρασμα για όλους τους παρευρισκόμενους…\nΣας περιμένουμε όλους με χαρά…. \n
URL:https://loutraki.gov.gr/event/paradosiakoi-choroi-kai-tragoydia-apo-ton-politistiko-syllogo-loytrakioy-melagkavi/
LOCATION:Καραϊσκάκη 40\, Λουτράκι\, Κορινθίας\, 20300\, Ελλάδα
GEO:37.9745632;22.9814992
X-APPLE-STRUCTURED-LOCATION;VALUE=URI;X-ADDRESS=Καραϊσκάκη 40 Λουτράκι Κορινθίας 20300 Ελλάδα;X-APPLE-RADIUS=500;X-TITLE=Καραϊσκάκη 40:geo:22.9814992,37.9745632
CATEGORIES:Πολιτιστικές,Θρησκευτικές
ATTACH;FMTTYPE=image/jpeg:https://loutraki.gov.gr/wp-content/uploads/2023/04/ΑΦΙΣΑ-ΓΙΑ-ΚΥΡΙΑΚΗ-ΤΟΥ-ΘΩΜΑ-23.4.2023.jpeg
END:VEVENT
END:VCALENDAR