BEGIN:VCALENDAR
VERSION:2.0
PRODID:-//Δήμος Λουτρακίου - ECPv4.6.12//NONSGML v1.0//EN
CALSCALE:GREGORIAN
METHOD:PUBLISH
X-WR-CALNAME:Δήμος Λουτρακίου
X-ORIGINAL-URL:https://loutraki.gov.gr
X-WR-CALDESC:Events for Δήμος Λουτρακίου
BEGIN:VEVENT
DTSTART;TZID=Europe/Athens:20230311T080000
DTEND;TZID=Europe/Athens:20230312T170000
DTSTAMP:20260423T091111
CREATED:20230308T064523Z
LAST-MODIFIED:20230308T064523Z
UID:27298-1678521600-1678640400@loutraki.gov.gr
SUMMARY:ΠΑΝΕΛΛΗΝΙΟ ΠΡΩΤΑΘΛΗΜΑ ΕΛΛΗΝΙΚΗΣ ΟΜΟΣΠΟΝΔΙΑΣ ΤΖΟΥΝΤΟ
DESCRIPTION:Δείτε εδώ την Προκήρυξη των αγώνων \n
URL:https://loutraki.gov.gr/event/panellinio-protathlima-ellinikis-omospondias-tzoynto/
LOCATION:Λεωφόρος Αθηνών\, Λουτράκι\, 20300
GEO:37.945996;22.9761642
X-APPLE-STRUCTURED-LOCATION;VALUE=URI;X-ADDRESS=Λεωφόρος Αθηνών Λουτράκι 20300;X-APPLE-RADIUS=500;X-TITLE=Λεωφόρος Αθηνών:geo:22.9761642,37.945996
CATEGORIES:Αθλητικές
ATTACH;FMTTYPE=image/jpeg:https://loutraki.gov.gr/wp-content/uploads/2023/03/TZOYNTO.jpg
END:VEVENT
END:VCALENDAR