BEGIN:VCALENDAR
VERSION:2.0
PRODID:-//Δήμος Λουτρακίου - ECPv4.6.12//NONSGML v1.0//EN
CALSCALE:GREGORIAN
METHOD:PUBLISH
X-WR-CALNAME:Δήμος Λουτρακίου
X-ORIGINAL-URL:https://loutraki.gov.gr
X-WR-CALDESC:Events for Δήμος Λουτρακίου
BEGIN:VEVENT
DTSTART;TZID=Europe/Athens:20220625T110000
DTEND;TZID=Europe/Athens:20220626T210000
DTSTAMP:20260423T154308
CREATED:20220614T081402Z
LAST-MODIFIED:20220614T081402Z
UID:25893-1656154800-1656277200@loutraki.gov.gr
SUMMARY:Πανελλήνιο Πρωτάθλημα Drift: Επιστροφή στη δράση
DESCRIPTION:4ος γύρος Πανελληνίου Πρωταθλήματος Drift 1-Drift 2 & Κυπέλλου Drift 3 \n25-26 Ιουνίου \nΥπό την αιγίδα του Δήμου Λουτρακίου-Περαχώρας-Αγίων Θεοδώρων \n  \nΗ αντίστροφη μέτρηση για τον 4ο γύρο του Πανελλήνιου Πρωταθλήματος Drift & Κυπέλλου Drift που διοργανώνει η Start Line έχει αρχίσει! Στη φιλόξενη Σχολή Μηχανικού Λουτρακίου στις 25-26 Ιουνίου\, οι θεαματικότεροι οδηγοί της χώρας με τα εντυπωσιακά αυτοκίνητα τους υπόσχονται μοναδικές μάχες. \nΥπενθυμίζουμε πως φέτος οι κύριες κατηγορίες του θεσμού είναι\, αυτή της Drift 1 της Drift 2 και της Drift 3. Οι αγώνες θα διεξαχθούν σύμφωνα με τα ιατρικά πρωτόκολλα της Γ.Γ.Α. \nΟι συμμετοχές λήγουν Παρασκευή 17 Ιουνίου\, ώρα 23:59. Οι δηλώσεις συμμετοχής γίνονται μέσω Σ.Δ.Δ.Α. (www.e-omae-epa.gr) \nΠερισσότερες πληροφορίες στο τηλέφωνο: 6908 805 068 και στο email: info@startline.gr  \n  \nΠρόγραμμα \nΛήξη Εγγραφών: Παρασκευή 17 Ιουνίου\, 23:59\, ΣΔΔΑ \nΔιοικητικός-Τεχνικός Έλεγχος: Σάββατο 25 Ιουνίου\, 09:00-10:30\,  Σχολή Μηχανικού \nΥποχρεωτική Ενημέρωση Αγωνιζομένων: Σάββατο 25 Ιουνίου\, 10:30\, Σχολή Μηχανικού \nΕλεύθερα Περάσματα: Σάββατο 25 Ιουνίου\, 11:00-15:00 & 17:30-18:30\, Σχολή Μηχανικού \nΒαθμολογημένα Περάσματα Drift 1: Σάββατο 25 Ιουνίου\, 18:30-19:30\, Σχολή Μηχανικού \nΥποχρεωτική Ενημέρωση Αγωνιζομένων: Κυριακή 26 Ιουνίου\, 09:30-10:00\, Σχολή Μηχανικού \nΒαθμολογημένα Περάσματα Drift 3: Κυριακή 26 Ιουνίου\, 11:20-13:30\, Σχολή Μηχανικού \nΜάχες D1\, D2: Κυριακή 26 Ιουνίου\, Μετά τα βαθμολογημένα\, Σχολή Μηχανικού \nΑπονομή: Κυριακή 26 Ιουνίου\, Μετά τις μάχες\, Σχολή Μηχανικού \n \nΓραφείο Τύπου \n
URL:https://loutraki.gov.gr/event/panellinio-protathlima-drift-epistrofi-sti-drasi/
LOCATION:ΛΟΥΤΡΑΚΙ\, 20300\, Greece
GEO:37.954258;22.964421
CATEGORIES:Αθλητικές
ATTACH;FMTTYPE=image/jpeg:https://loutraki.gov.gr/wp-content/uploads/2022/06/4o-Drift-Loutraki-2022-poster.jpg
ORGANIZER;CN="Start%20Line%20RC":MAILTO:info@startline.gr
END:VEVENT
END:VCALENDAR