BEGIN:VCALENDAR
VERSION:2.0
PRODID:-//Δήμος Λουτρακίου - ECPv4.6.12//NONSGML v1.0//EN
CALSCALE:GREGORIAN
METHOD:PUBLISH
X-WR-CALNAME:Δήμος Λουτρακίου
X-ORIGINAL-URL:https://loutraki.gov.gr
X-WR-CALDESC:Events for Δήμος Λουτρακίου
BEGIN:VEVENT
DTSTART;TZID=Europe/Athens:20230511T080000
DTEND;TZID=Europe/Athens:20230514T170000
DTSTAMP:20260423T064500
CREATED:20230509T065655Z
LAST-MODIFIED:20230509T065655Z
UID:27806-1683792000-1684083600@loutraki.gov.gr
SUMMARY:ΠΑΝΕΛΛΗΝΙΟ ΚΥΠΕΛΛΟ KICKBOXING A & B ΚΑΤΗΓΟΡΙΑ 2023
DESCRIPTION: \n
URL:https://loutraki.gov.gr/event/panellinio-kypello-kickboxing-a-b-katigoria-2023/
LOCATION:Λεωφόρος Αθηνών\, Λουτράκι\, 20300
GEO:37.945996;22.9761642
X-APPLE-STRUCTURED-LOCATION;VALUE=URI;X-ADDRESS=Λεωφόρος Αθηνών Λουτράκι 20300;X-APPLE-RADIUS=500;X-TITLE=Λεωφόρος Αθηνών:geo:22.9761642,37.945996
CATEGORIES:Αθλητικές
ATTACH;FMTTYPE=image/jpeg:https://loutraki.gov.gr/wp-content/uploads/2023/05/NEW_FINAL_PANELLINIO_KYPELLO_2023-01.jpg
END:VEVENT
END:VCALENDAR