BEGIN:VCALENDAR
VERSION:2.0
PRODID:-//Δήμος Λουτρακίου - ECPv4.6.12//NONSGML v1.0//EN
CALSCALE:GREGORIAN
METHOD:PUBLISH
X-WR-CALNAME:Δήμος Λουτρακίου
X-ORIGINAL-URL:https://loutraki.gov.gr
X-WR-CALDESC:Events for Δήμος Λουτρακίου
BEGIN:VEVENT
DTSTART;TZID=Europe/Athens:20240518T100000
DTEND;TZID=Europe/Athens:20240518T133000
DTSTAMP:20260422T193255
CREATED:20240510T090841Z
LAST-MODIFIED:20240515T130246Z
UID:29571-1716026400-1716039000@loutraki.gov.gr
SUMMARY:Πάμε Ανακύκλωση
DESCRIPTION:Ο Δήμος Λουτρακίου – Περαχώρας – Αγ. Θεοδώρων στο πλαίσιο του προγράμματος περιβαλλοντικής ευαισθητοποίησης και επιβράβευσης μαθητών\, γονέων και εκπαιδευτικών για την ανακύκλωση\, Followgreen\, υλοποίησε για 6η συνεχή χρονιά τον Σχολικό Μαραθώνιο «Πάμε Ανακύκλωση»\, για το σχολικό έτος 2023-2024. \nΜε αφορμή τη λήξη του μαραθωνίου\, σας ενημερώνουμε ότι το Σάββατο 18 Μαΐου 2024 και ώρα 10:00 στο Παραλιακό Πάρκο Λουτρακίου θα πραγματοποιηθούν βιωματικές περιβαλλοντικές δράσεις και εκδήλωση βράβευσης όλων των σχολείων και των αθλητικών συλλόγων. \n
URL:https://loutraki.gov.gr/event/pame-anakyklosi/
LOCATION:Παραλιακό Πάρκο\, ΛΟΥΤΡΑΚΙ\, Κορινθία\, 20300\, Ελλάδα
GEO:37.9792631;22.9735862
X-APPLE-STRUCTURED-LOCATION;VALUE=URI;X-ADDRESS=Παραλιακό Πάρκο ΛΟΥΤΡΑΚΙ Κορινθία 20300 Ελλάδα;X-APPLE-RADIUS=500;X-TITLE=Παραλιακό Πάρκο:geo:22.9735862,37.9792631
CATEGORIES:Περιβαλλοντικές
ATTACH;FMTTYPE=image/png:https://loutraki.gov.gr/wp-content/uploads/2024/05/ΠΡΟΣΚΛΗΣΗ-1.png
END:VEVENT
END:VCALENDAR