BEGIN:VCALENDAR
VERSION:2.0
PRODID:-//Δήμος Λουτρακίου - ECPv4.6.12//NONSGML v1.0//EN
CALSCALE:GREGORIAN
METHOD:PUBLISH
X-WR-CALNAME:Δήμος Λουτρακίου
X-ORIGINAL-URL:https://loutraki.gov.gr
X-WR-CALDESC:Events for Δήμος Λουτρακίου
BEGIN:VEVENT
DTSTART;TZID=Europe/Athens:20251002T080000
DTEND;TZID=Europe/Athens:20251002T170000
DTSTAMP:20260421T081846
CREATED:20251002T093726Z
LAST-MODIFIED:20251002T094734Z
UID:32406-1759392000-1759424400@loutraki.gov.gr
SUMMARY:Open Day στη Φιλαρμονική Ορχήστρα Λουτρακίου!
DESCRIPTION:Ο Δήμος Λουτρακίου – Περαχώρας – Αγίων Θεοδώρων και η Φιλαρμονική Ορχήστρα Λουτρακίου σας προσκαλούν στο Open Day που διοργανώνουν την Κυριακή 5 Οκτωβρίου 2025 και ώρα 11.30 με 13.30 στο Πνευματικό Κέντρο Λουτρακίου (Κολοκοτρώνη 17). \n  \nΤο Open Day απευθύνεται σε όλες τις ηλικίες και το πρόγραμμα περιλαμβάνει: \n\nΞενάγηση στις εγκαταστάσεις\nΕνημέρωση για τις όλες τις δραστηριότητες\nΔωρεάν δοκιμαστικά μαθήματα\nΠαρουσίαση μουσικών οργάνων\nΣυνάντηση με τους καθηγητές\nΣυναυλίες καθηγητών και μαθητών\nΣυναυλίες μουσικών συνόλων\n\n  \nΕλάτε να γνωρίσουμε μαζί τον υπέροχο κόσμο της μουσικής! \nΤο μουσικό όργανο για τις σπουδές σας στη Φιλαρμονική παρέχεται ΔΩΡΕΑΝ! \n  \nΠληροφορίες: \nΚολοκοτρώνη 17\, 2744065619 Καθημερινά 18.00 -21.00 \n \n \n
URL:https://loutraki.gov.gr/event/open-day-sti-filarmoniki-orchistra-loytrakioy/
CATEGORIES:Πολιτιστικές
ATTACH;FMTTYPE=image/jpeg:https://loutraki.gov.gr/wp-content/uploads/2025/10/Poster-2-1.jpg
END:VEVENT
END:VCALENDAR