BEGIN:VCALENDAR
VERSION:2.0
PRODID:-//Δήμος Λουτρακίου - ECPv4.6.12//NONSGML v1.0//EN
CALSCALE:GREGORIAN
METHOD:PUBLISH
X-WR-CALNAME:Δήμος Λουτρακίου
X-ORIGINAL-URL:https://loutraki.gov.gr
X-WR-CALDESC:Events for Δήμος Λουτρακίου
BEGIN:VEVENT
DTSTART;TZID=Europe/Athens:20221002T110000
DTEND;TZID=Europe/Athens:20221002T140000
DTSTAMP:20260423T142127
CREATED:20220929T080635Z
LAST-MODIFIED:20220929T104812Z
UID:26286-1664708400-1664719200@loutraki.gov.gr
SUMMARY:Open Day 2022
DESCRIPTION:\n\n\nΗ Φιλαρμονική Λουτρακίου την Κυριακή 2 Οκτωβρίου 2022 και ώρα 11.00 ανοίγει τις πύλες της και για ακόμα μια χρονιά υποδέχεται νέους μαθητές! \n\nΤο Open Day απευθύνεται σε όλες τις ηλικίες αλλά και τους γονείς!\n\n\n\n\n\nΠΡΟΓΡΑΜΜΑ\n \n\n\n\n\n11.00\nΑγιασμός\n\n\n11.10\nΣυναυλία – Παρουσίαση της Μπαντίνας \n\n\n11.20\nΣυναυλία – Παρουσίαση Μουσικών Συνόλων – Brass Quintet \n\n\n11.30\nΣυναυλία – Παρουσίαση Μουσικών Συνόλων – Sax-Quare \n\n\n11.40\nΣυναυλία Φιλαρμονικής \n\n\n12.00\nΠαρουσίαση Μουσικών Οργάνων – Βαρύτονα Πνευστά (τρομπόνι\, ευφώνιο\, τούμπα)\n\n\n12.10\nΠαρουσίαση Κλαρινέτου\, Σαξοφώνου και Φλάουτου \n\n\n12.20\nΠαρουσίαση Κόρνου\n\n\n12.30\nΔοκιμαστικό Μάθημα Προπαιδείας \n\n\n12.40\nΠαρουσίαση Τρομπέτας\n\n\n12.50\nΠαρουσίαση Κλασσικών Κρουστών και Ντραμς  \n\n\n13.00\nΣυναυλία μουσικής δωματίου με τους καθηγητές και επιλεγμένους μαθητές από τις τάξεις της Φιλαρμονικής\n\n\n13.00 – 14.00\nΣυνομιλία με τους καθηγητές\n\n\n\n  \n \n\nΓια περισσότερες πληροφορίες μπορείτε να απευθύνεστε καθημερινά από 18.00 -20.00 στη Φιλαρμονική (Πνευματικό Κέντρο\, Κολοκοτρώνη 17) και στo τηλέφωνo 2744065619. \nΣας περιμένουμε! \n\nΤο μουσικό όργανο για τις σπουδές σας στη Φιλαρμονική παρέχεται ΔΩΡΕΑΝ!\n\n \n\n
URL:https://loutraki.gov.gr/event/open-day-2022/
LOCATION:Κολοκοτρώνη 17\, Λουτράκι\, 20300\, Ελλάδα
GEO:37.9764333;22.9785725
X-APPLE-STRUCTURED-LOCATION;VALUE=URI;X-ADDRESS=Κολοκοτρώνη 17 Λουτράκι 20300 Ελλάδα;X-APPLE-RADIUS=500;X-TITLE=Κολοκοτρώνη 17:geo:22.9785725,37.9764333
CATEGORIES:Πολιτιστικές
ATTACH;FMTTYPE=image/png:https://loutraki.gov.gr/wp-content/uploads/2022/09/Open-2022.png
ORGANIZER;CN="%CE%A6%CE%B9%CE%BB%CE%B1%CF%81%CE%BC%CE%BF%CE%BD%CE%B9%CE%BA%CE%AE%20%CE%9F%CF%81%CF%87%CE%AE%CF%83%CF%84%CF%81%CE%B1%20%CE%9B%CE%BF%CF%85%CF%84%CF%81%CE%B1%CE%BA%CE%AF%CE%BF%CF%85":MAILTO:info@loutrakiband.gr
END:VEVENT
END:VCALENDAR