BEGIN:VCALENDAR
VERSION:2.0
PRODID:-//Δήμος Λουτρακίου - ECPv4.6.12//NONSGML v1.0//EN
CALSCALE:GREGORIAN
METHOD:PUBLISH
X-WR-CALNAME:Δήμος Λουτρακίου
X-ORIGINAL-URL:https://loutraki.gov.gr
X-WR-CALDESC:Events for Δήμος Λουτρακίου
BEGIN:VEVENT
DTSTART;TZID=Europe/Athens:20240818T210000
DTEND;TZID=Europe/Athens:20240818T210000
DTSTAMP:20260422T102510
CREATED:20240726T115516Z
LAST-MODIFIED:20240809T084527Z
UID:30087-1724014800-1724014800@loutraki.gov.gr
SUMMARY:Loutraki Festival 2024 | Τζώρτζια Κεφάλα | Γιώργος Μίχας
DESCRIPTION: \nΣυναυλία με το Γιώργο Μίχα και τη Τζώρτζια στους Αγίους Θεοδώρους! \nΟ Λουτρακιώτης τραγουδοποιός Γιώργος Μίχας\, μετά από τις πολύ επιτυχημένες συναυλίες του και την εξαιρετική κοινή εμφάνισή του στον Σταυρό του Νότου μαζί με τους Σωκράτη Μάλαμα\, Τζώρτζια Κεφαλά & Ιουλία Καραπατάκη\, επιστρέφει στους Αγίους Θεοδώρους την Κυριακή 18 Αυγούστου παρέα με την Τζώρτζια Κεφαλά (Μπλε) και το μουσικό του σχήμα. \nΣτη συναυλία αυτή θα παρουσιάσουν τραγούδια από την πρόσφατη συνεργασία τους στον καινούργιο δίσκο του Γιώργου Μίχα με τον Σωκράτη Μάλαμα και τίτλο «Με παρτενέρ τη Σελήνη» Επιπλέον\, το πρόγραμμα θα περιλαμβάνει όμορφα και δημοφιλή τραγούδια από πολλές μουσικές φόρμες\, τραγούδια δικά του και συνεργασίες του με καλλιτέχνες όπως η Χαρούλα Αλεξίου\, η Θεοδοσία Τσάτσου\, η Σωτηρία Λεονάρδου\, η Ζωή Παπαδοπούλου\, η Ελένη Τσαλίγοπούλου\, ο Λάμπρος Καρελάς\, η Ιουλία Καραπατάκη\, ο Πέτρος Μάλαμας και φυσικά η Τζώρτζια Κεφαλά\, αλλά και έργα πολύ σπουδαίων δημιουργών που έχουν αγαπηθεί όσο λίγα. \nΠληροφορίες Εκδήλωσης: \n· Ημερομηνία: Κυριακή 18 Αυγούστου 2024 \n· Ώρα: 21:30 \n· Τοποθεσία: Πλατεία Εθνικής Αντιστάσεως\, Άγιοι Θεόδωροι \nΓια περισσότερες πληροφορίες\, παρακαλούμε επισκεφθείτε την ιστοσελίδα του Loutraki Festival ή επικοινωνήστε μαζί μας μέσω των κοινωνικών δικτύων. \nΔιοργάνωση: Loutraki Festival \n \n
URL:https://loutraki.gov.gr/event/loutraki-festival-2024-tzortzia-kefala-giorgos-michas/
CATEGORIES:Πολιτιστικές
ATTACH;FMTTYPE=image/jpeg:https://loutraki.gov.gr/wp-content/uploads/2024/07/thumbnail_michas_post.jpg
END:VEVENT
END:VCALENDAR