BEGIN:VCALENDAR
VERSION:2.0
PRODID:-//Δήμος Λουτρακίου - ECPv4.6.12//NONSGML v1.0//EN
CALSCALE:GREGORIAN
METHOD:PUBLISH
X-WR-CALNAME:Δήμος Λουτρακίου
X-ORIGINAL-URL:https://loutraki.gov.gr
X-WR-CALDESC:Events for Δήμος Λουτρακίου
BEGIN:VEVENT
DTSTART;TZID=Europe/Athens:20200202T093000
DTEND;TZID=Europe/Athens:20200202T093000
DTSTAMP:20260423T222436
CREATED:20191202T094537Z
LAST-MODIFIED:20191202T094537Z
UID:19051-1580635800-1580635800@loutraki.gov.gr
SUMMARY:Loutraki 10Κ Run 2020
DESCRIPTION:Οι εγγραφές ξεκίνησαν! \n?Κάνε την εγγραφή σου εδώ!  #LoutrakiRun2020??? από το myrace.gr και επέλεξε τη διαδρομή 10χιλ και 3χιλ. ενηλίκων και ανηλίκων! \nΗ όμορφη Λουτρόπολή μας\, σας περιμένει για την επόμενη αθλητική περιπέτεια! \n \n  \n
URL:https://loutraki.gov.gr/event/loutraki-10k-run-2020/
LOCATION:1ο χλμ ΕΟ Λουτρακίου - Περαχώρας\, ΛΟΥΤΡΑΚΙ\, Κορινθια\, 20300\, Ελλάδα
GEO:37.949762;22.98829
X-APPLE-STRUCTURED-LOCATION;VALUE=URI;X-ADDRESS=1ο χλμ ΕΟ Λουτρακίου - Περαχώρας ΛΟΥΤΡΑΚΙ Κορινθια 20300 Ελλάδα;X-APPLE-RADIUS=500;X-TITLE=1ο χλμ ΕΟ Λουτρακίου - Περαχώρας:geo:22.98829,37.949762
CATEGORIES:Αθλητικές
ATTACH;FMTTYPE=image/jpeg:https://loutraki.gov.gr/wp-content/uploads/2019/12/77184363_2007425642694299_355400692543782912_o.jpg
END:VEVENT
END:VCALENDAR