BEGIN:VCALENDAR
VERSION:2.0
PRODID:-//Δήμος Λουτρακίου - ECPv4.6.12//NONSGML v1.0//EN
CALSCALE:GREGORIAN
METHOD:PUBLISH
X-WR-CALNAME:Δήμος Λουτρακίου
X-ORIGINAL-URL:https://loutraki.gov.gr
X-WR-CALDESC:Events for Δήμος Λουτρακίου
BEGIN:VEVENT
DTSTART;TZID=Europe/Athens:20221218T200000
DTEND;TZID=Europe/Athens:20221218T220000
DTSTAMP:20260423T103214
CREATED:20221201T120525Z
LAST-MODIFIED:20221214T120834Z
UID:26858-1671393600-1671400800@loutraki.gov.gr
SUMMARY:Λίγο πριν την άφεση
DESCRIPTION:Το » ΑΘΕΑΤΟ ΘΕΑΤΡΟ» Κορίνθου μας προσκαλεί στη θεατρική παράσταση με τίτλο «Λίγο πριν την άφεση» βασισμένη σε ποίηση του Κώστα Σκούρτη. \nΥπό την αιγίδα του Δήμου Λουτρακίου – Περαχώρας – Αγίων Θεοδώρων. \n \n
URL:https://loutraki.gov.gr/event/ligo-prin-tin-afesi/
LOCATION:Δημητρίου Στάμου\, Αγ\, Θεόδωροι\, Κορινθία\, 20300
CATEGORIES:Χριστούγεννα 2022,Πολιτιστικές
ATTACH;FMTTYPE=image/jpeg:https://loutraki.gov.gr/wp-content/uploads/2022/12/318366714_911015233639934_1038284680360467385_n.jpg
END:VEVENT
END:VCALENDAR