BEGIN:VCALENDAR
VERSION:2.0
PRODID:-//Δήμος Λουτρακίου - ECPv4.6.12//NONSGML v1.0//EN
CALSCALE:GREGORIAN
METHOD:PUBLISH
X-WR-CALNAME:Δήμος Λουτρακίου
X-ORIGINAL-URL:https://loutraki.gov.gr
X-WR-CALDESC:Events for Δήμος Λουτρακίου
BEGIN:VEVENT
DTSTART;TZID=Europe/Athens:20190726T213000
DTEND;TZID=Europe/Athens:20190726T233000
DTSTAMP:20260424T160852
CREATED:20190702T141430Z
LAST-MODIFIED:20190702T141430Z
UID:17962-1564176600-1564183800@loutraki.gov.gr
SUMMARY:Lemon\, Θεατρική Παράσταση
DESCRIPTION:Βραχίονας Λιμανιού | Ώρα 21.30 \nΕισιτήριο: 10 ευρώ προπώληση\, 12 ευρώ ταμείο\nΗ απίστευτη ιστορία του πιανίστα Χιλιαεννιακόσια\, που γεννήθηκε πάνω σ’ ένα καράβι και δεν κατέβηκε ποτέ από αυτό. Η παράσταση\, που ενθουσιάζει κοινό και κριτικούς όπου κι αν παρουσιάζεται\, ταξιδεύει σε θεατρικές σκηνές και πρωτότυπους προορισμούς πότε στη στεριά\, πότε στη θάλασσα και πότε κάπου ανάμεσα. Δύο ταλαντούχοι καλλιτέχνες\, ο ηθοποιός και πιανίστας Μελαχρινός Βελέντζας (Χιλιαεννιακόσια) και ο ηθοποιός Γιώργος Δρίβας (Τιμ Τούνυ – τρομπετίστας) υποδύονται τους ρόλους των ανθρώπων που συνάντησε ο Χιλιαεννιακόσια όσα χρόνια έζησε αποκλειστικά μέσα στο πλοίο. Το πλοίο που τον γέννησε\, τον μεγάλωσε\, τον σκότωσε. \nΗ αφήγηση ξετυλίγεται μέσα από αντιθέσεις σε μία διαρκή μετάβαση απ’ τη θάλασσα στη στεριά κι απ’ τη στεριά στη θάλασσα συνδυάζοντας το γέλιο με τη συγκίνηση\, τη χαρά με τη νοσταλγία\, το ανθρώπινο με το μεταφυσικό\, το πραγματικό με το φανταστικό. Όπως ακριβώς συμβαίνει στην ίδια τη ζωή. \n
URL:https://loutraki.gov.gr/event/lemon-theatriki-parastasi/
LOCATION:Λουτράκι\, 20300
GEO:37.9788;22.975
CATEGORIES:Loutraki Festival 2019,Πολιτιστικές
ATTACH;FMTTYPE=image/jpeg:https://loutraki.gov.gr/wp-content/uploads/2019/07/unnamed-1.jpg
END:VEVENT
END:VCALENDAR