BEGIN:VCALENDAR
VERSION:2.0
PRODID:-//Δήμος Λουτρακίου - ECPv4.6.12//NONSGML v1.0//EN
CALSCALE:GREGORIAN
METHOD:PUBLISH
X-WR-CALNAME:Δήμος Λουτρακίου
X-ORIGINAL-URL:https://loutraki.gov.gr
X-WR-CALDESC:Events for Δήμος Λουτρακίου
BEGIN:VEVENT
DTSTART;TZID=Europe/Athens:20181223T173000
DTEND;TZID=Europe/Athens:20181223T193000
DTSTAMP:20260425T032457
CREATED:20181218T202752Z
LAST-MODIFIED:20181218T202752Z
UID:17235-1545586200-1545593400@loutraki.gov.gr
SUMMARY:Κώστας Μαρτάκης
DESCRIPTION:Μεγάλη συναυλία με τον Kostas Martakis\nΚυριακή 23 Δεκεμβρίου Ι ώρα 5.30 μ.μ. Ι Πλατεία 25ης Μαρτίου  Λουτράκι \n
URL:https://loutraki.gov.gr/event/kostas-martakis/
CATEGORIES:Ένας Δρόμος Χριστούγεννα,Πολιτιστικές
ATTACH;FMTTYPE=image/jpeg:https://loutraki.gov.gr/wp-content/uploads/2018/12/MARTAKIS-Poster-CHRISTMAS-2018.jpg
END:VEVENT
END:VCALENDAR