BEGIN:VCALENDAR
VERSION:2.0
PRODID:-//Δήμος Λουτρακίου - ECPv4.6.12//NONSGML v1.0//EN
CALSCALE:GREGORIAN
METHOD:PUBLISH
X-WR-CALNAME:Δήμος Λουτρακίου
X-ORIGINAL-URL:https://loutraki.gov.gr/en
X-WR-CALDESC:Events for Δήμος Λουτρακίου
BEGIN:VEVENT
DTSTART;TZID=Europe/Athens:20220418T080000
DTEND;TZID=Europe/Athens:20220420T170000
DTSTAMP:20260423T171047
CREATED:20220324T075547Z
LAST-MODIFIED:20220329T070425Z
UID:25460-1650268800-1650474000@loutraki.gov.gr
SUMMARY:Isthmia Easter Cup 3
DESCRIPTION:Τουρνουά ηλικιακών κατηγοριών Respect CUP τον Απρίλιο στον Δήμο Λουτρακίου – Περαχώρας – Αγίων Θεοδώρων. \nTo RespectCup διοργανώνει κάθε χρόνο κατά την περίοδο των διακοπών Χριστουγέννων\, Πάσχα και καλοκαιριού\, εποχιακά τουρνουά που συνδυάζονται με διασκέδαση\, άθληση και ξένοιαστες διακοπές. \nΗ διοργάνωση θα πραγματοποιηθεί από τις 18 έως και τις 20 Απριλίου 2022\, στα γήπεδα Αγίων Θεοδώρων “Κ. ΖΑΜΠΕΤΑΣ” & Ισθμίας “Γ. ΣΤΕΦΑΣ”. \nΗ διοργάνωση τελεί υπό την αιγίδα του Δήμου Λουτρακίου – Περαχώρας – Αγίων Θεοδώρων. \n
URL:https://loutraki.gov.gr/en/event/isthmia-easter-cup-3/
LOCATION:Ίσθμια
GEO:37.9195435;23.0085259
CATEGORIES:Εκπαιδευτικές,Αθλητικές
ATTACH;FMTTYPE=image/jpeg:https://loutraki.gov.gr/wp-content/uploads/2022/03/Respect-Cup-2022.jpg
END:VEVENT
END:VCALENDAR