BEGIN:VCALENDAR
VERSION:2.0
PRODID:-//Δήμος Λουτρακίου - ECPv4.6.12//NONSGML v1.0//EN
CALSCALE:GREGORIAN
METHOD:PUBLISH
X-WR-CALNAME:Δήμος Λουτρακίου
X-ORIGINAL-URL:https://loutraki.gov.gr
X-WR-CALDESC:Events for Δήμος Λουτρακίου
BEGIN:VEVENT
DTSTART;TZID=Europe/Athens:20230305T173000
DTEND;TZID=Europe/Athens:20230305T193000
DTSTAMP:20260423T092957
CREATED:20230301T081339Z
LAST-MODIFIED:20230301T101950Z
UID:27273-1678037400-1678044600@loutraki.gov.gr
SUMMARY:Ημερίδα με θέμα τη σύγχρονη γυναίκα στη σημερινή κοινωνία
DESCRIPTION:\n\n\nΣας ενημερώνουμε ότι οι δύο (2) προγραμματισμένες  εκδηλώσεις που αφορούν α. στην Παρουσίαση Βιβλίου και β. στην Ημερίδα που επρόκειτο να πραγματοποιηθούν στο κτήριο της Δημοτικής Βιβλιοθήκης Λουτρακίου αναβάλλονται λόγω του εθνικού πένθους που κηρύχθηκε από την Κυβέρνηση\, για τα θύματα του σιδηροδρομικού δυστυχήματος των Τεμπών. \nΣτο δράμα που εξελίσσεται\, η σκέψη μας είναι στους ανθρώπους που έφυγαν άδικα και τους τραυματίες. Θερμά συλληπητήρια στις οικογένειες των θυμάτων.\n \nΓια τον νέο προγραμματισμό των εκδηλώσεων θα εκδοθούν σχετικές ανακοινώσεις. \n\n \n Ημερίδα με θέμα τη σύγχρονη γυναίκα στη σημερινή κοινωνία\nΚυριακή 5 Μαρτίου | ώρα 17:30 | Δημοτική Βιβλιοθήκη Λουτρακίου\n—–\n«Πολλαπλοί και αντιφατικοί ρόλοι των σύγχρονων γυναικών»\nΜαρία Μουζάκη | Κοινωνιολόγος\, Σύμβουλος MSc\, Υποψήφια Διδάκτωρ Πανεπιστήμιο Πελοποννήσου\n\n\n«Ο ρόλος της διατροφής στον σύγχρονο τρόπο ζωής»\nΙωάννα Κανέλλου | Διαιτολόγος – Διατροφολόγος\, MSc Κλινική Διατροφή\n—–\nΜε αφορμή την Ημέρα της Γυναίκας\, ο Πολιτιστικός Σύλλογος Λουτρακίου «ΜΕΛΑΓΚΑΒΙ» διοργανώνει ημερίδα με θέμα την σύγχρονη γυναίκα στην σημερινή κοινωνία.\n Οι εισηγήτριες της ημερίδας θα παρουσιάσουν τους πολλαπλούς ρόλους της γυναίκας στις μέρες μας και μέσα από θεωρητικές αναλύσεις αλλά και εποικοδομητικούς διαλόγους με τους συμμετέχοντες θα γίνει η καλύτερη δυνατή προσέγγιση του θέματος μέσα σε ένα ζεστό και φιλικό κλίμα.\n Η παρουσία σας στην εκδήλωση μας θα μας δώσει ιδιαίτερη χαρά\, μιας και το περιεχόμενό της θα αποτελεί έναν ύμνο προς την σύγχρονη ΓΥΝΑΙΚΑ.\n\n\nΕυγενική Παραχώρηση του χώρου: Δήμος Λουτρακίου – Περαχώρας – Αγίων Θεοδώρων\n\n\n#visitloutraki #visitagioithedoroi #visitgreece\n\n
URL:https://loutraki.gov.gr/event/imerida-me-thema-ti-sygchroni-gynaika-sti-simerini-koinonia/
LOCATION:Οικονόμου 3 & Τομπάζη\, Λουτράκι\, Κορινθία\, 20300\, Ελλάδα
GEO:37.9724674;22.9770054
X-APPLE-STRUCTURED-LOCATION;VALUE=URI;X-ADDRESS=Οικονόμου 3 & Τομπάζη Λουτράκι Κορινθία 20300 Ελλάδα;X-APPLE-RADIUS=500;X-TITLE=Οικονόμου 3 & Τομπάζη:geo:22.9770054,37.9724674
CATEGORIES:Εκπαιδευτικές,Υγείας,Πολιτιστικές
ATTACH;FMTTYPE=image/jpeg:https://loutraki.gov.gr/wp-content/uploads/2023/03/ΠΑΡΟΥΣΙΑΣΗ-ΒΙΒΛΙΟΥ.jpg
END:VEVENT
END:VCALENDAR