BEGIN:VCALENDAR
VERSION:2.0
PRODID:-//Δήμος Λουτρακίου - ECPv4.6.12//NONSGML v1.0//EN
CALSCALE:GREGORIAN
METHOD:PUBLISH
X-WR-CALNAME:Δήμος Λουτρακίου
X-ORIGINAL-URL:https://loutraki.gov.gr
X-WR-CALDESC:Events for Δήμος Λουτρακίου
BEGIN:VEVENT
DTSTART;TZID=Europe/Athens:20220513T080000
DTEND;TZID=Europe/Athens:20220515T143000
DTSTAMP:20260423T172802
CREATED:20220512T084007Z
LAST-MODIFIED:20220512T094607Z
UID:25693-1652428800-1652625000@loutraki.gov.gr
SUMMARY:Η μουσική αγαπάει τον αυτισμό 2021 – 22 | Περαχώρα Κορινθίας
DESCRIPTION:\n\n\n\n\n\n\nΠΛΗΡΟΦΟΡΙΕΣ\n\n\n\nΑΠΕΥΘΥΝΕΤΑΙ ΣΕ\n\nΠαιδιά 5-8 και 9-12 και τους γονείς τους \nΕκπαιδευτικούς της Πρωτοβάθμιας Εκπαίδευσης\, Ειδικούς παιδαγωγούς\, θεραπευτές και επαγγελματίες ψυχικής υγείας \n\n\n\nΗΜΕΡΟΜΗΝΙΕΣ\n\nΤο πρόγραμμα θα ταξιδέψει στην Περαχώρα Κορινθίας 13\, 14 & 15 Μαΐου 2022. \nΠαρασκευή 13 Μαΐου | Ενημέρωση Γονέων | 17:00-18:30 για παιδιά 5-8 ετών & 18:30-20:00 για παιδιά 9-12 ετών. \nΣάββατο 14 & Κυριακή 15 Μαΐου | 10:00 -12:00 για παιδιά 5-8 ετών & 12:00-14:00 για παιδιά 9-12 ετών. \nΤο απόγευμα του Σαββάτου 18:00 – 20:00 θα πραγματοποιηθεί συνάντηση βιωματικού εργαστηρίου για Εκπαιδευτικούς. \nΣε συνεργασία με το Τμήμα Ένταξης του Δημοτικού Σχολείου Περαχώρας Κορινθίας. \n\n\n\nΧΩΡΟΣ\n\nΑίθουσα πολλαπλών χρήσεων Δημοτικού Σχολείου Περαχώρας Κορινθίας – Περαχώρα\, Τ.Κ. 20300\, Δήμος Λουτρακίου Περαχώρας Αγίων Θεοδώρων. \nΤα βιωματικά εργαστήρια των εκπαιδευτικών στην Αττική πραγματοποιούνται στη Στέγη του Ιδρύματος Ωνάση\, ενώ στην περιφέρεια στα Ειδικά Νηπιαγωγεία και Ειδικά Δημοτικά σχολεία \n\n\n\nΚΟΣΤΟΣ ΣΥΜΜΕΤΟΧΗΣ\n\nΔωρεάν \n\n\n\n\n\n\n\n\n\n\n\n \n\n\n\n\n \n\n\nΠΕΡΙΓΡΑΦΗ\n\n\n\nΠώς μπορεί το Κλειδί του Σολ να ξεκλειδώσει συναισθήματα και δεξιότητες παιδιών που ανήκουν στο ευρύ φάσμα του αυτισμού; Ένα εργαστήριο μουσικής για γονείς και παιδιά\, το οποίο απελευθερώνει την επικοινωνία με νότες και ρυθμό. \n\n\n\n\n\n\n\n\n\n\n\n\n \n\n\n\nΌταν οι λέξεις γράφονται με νότες σε όλη την Ελλάδα. Το επιτυχημένο εκπαιδευτικό πρόγραμμα του Ιδρύματος Ωνάση αρχίζει δυναμικά και πάλι το μουσικό του ταξίδι στις πόλεις της περιφέρειας\, μετά από δυο χρόνια σιωπής λόγω της πανδημίας του Covid – 19 και υποδέχεται ξανά με τραγούδια και χαρές τους μικρούς του φίλους\, με πρώτο σταθμό για φέτος\, την Περαχώρα Κορινθίας. Στις 13\, 14 και 15 Μαΐου\, προσκαλεί μικτές ομάδες παιδιών\, με και χωρίς Διαταραχή Αυτιστικού Φάσματος\, μαζί με γονείς και εκπαιδευτικούς να συμμετέχουν όλοι σε ένα ατελείωτο μουσικό παιχνίδι. \nΆκου\, δες και μπες στο ειδικά μελετημένο μουσικό παιχνίδι με όλες τις αισθήσεις σου. Οι μουσικοί και οι εκπαιδευτικοί είναι δίπλα σου για να προσαρμόσουν όλες τις μουσικές δραστηριότητες στις δικές σου επιθυμίες και ικανότητες. Στο εργαστήριο αυτό\, οι ήχοι και τα μουσικά όργανα βοηθούν κάθε παιδί να απελευθερώσει τα συναισθήματά του και να αναπτύξει τις κοινωνικές του δεξιότητες. Στόχος του εργαστηρίου είναι να μπορέσουν τα παιδιά που βρίσκονται στο ευρύ φάσμα του αυτισμού\, μέσα από την εμπειρία της ομαδικότητας\, να απελευθερώσουν τη δημιουργικότητά τους και να ενσωματωθούν στην ομάδα. \nΗ τέχνη της μουσικής ξεπερνά τη λεκτική επικοινωνία\, ταξιδεύει και φέτος σε νέους προορισμούς\, σε πόλεις της περιφέρειας\, και ενισχύει την πρόσβαση όλων στην εκπαίδευση και στο παιχνίδι. \n\n\n\n\n\n\n\n\n\n\n\n \n\n\n\n\n\n\n\n\n\n\n\n\n\n\n\nΔΙΑΔΙΚΑΣΙΑ ΑΙΤΗΣΗΣ ΚΑΙ ΕΠΙΛΟΓΗΣ\n\n\n\nΘα τηρηθεί σειρά προτεραιότητας. \nΠληροφορίες σχετικά με το πρόγραμμα στην Περαχώρα Κορινθίας και για αιτήσεις συμμετοχής\, απαιτείται τηλεφωνική επικοινωνία με τον αρμόδιο της σχολικής μονάδας: \nΤ. 27440 79288 / 6973652572 | Δευτέρα- Παρασκευή| 9:00-13:00 & 18:00 – 20:00. \nΥπεύθυνος Επικοινωνίας: Πιθαμούδης Γεώργιος. \nΑπαραίτητη η τηλεφωνική κράτηση θέσης. \n\n\n\n\n\n\n\n\n
URL:https://loutraki.gov.gr/event/i-moysiki-agapaei-ton-aytismo-2021-22-perachora-korinthias/
LOCATION:Περαχώρα\, Τ.Κ. 20300
GEO:38.0301124;22.9485075
X-APPLE-STRUCTURED-LOCATION;VALUE=URI;X-ADDRESS=Περαχώρα Τ.Κ. 20300;X-APPLE-RADIUS=500;X-TITLE=Περαχώρα\, Τ.Κ. 20300:geo:22.9485075,38.0301124
CATEGORIES:Εκπαιδευτικές
ATTACH;FMTTYPE=image/jpeg:https://loutraki.gov.gr/wp-content/uploads/2022/05/279294975_355598516601674_704232670013191282_n.jpg
END:VEVENT
END:VCALENDAR