BEGIN:VCALENDAR
VERSION:2.0
PRODID:-//Δήμος Λουτρακίου - ECPv4.6.12//NONSGML v1.0//EN
CALSCALE:GREGORIAN
METHOD:PUBLISH
X-WR-CALNAME:Δήμος Λουτρακίου
X-ORIGINAL-URL:https://loutraki.gov.gr
X-WR-CALDESC:Events for Δήμος Λουτρακίου
BEGIN:VEVENT
DTSTART;TZID=Europe/Athens:20220522T070000
DTEND;TZID=Europe/Athens:20220529T230000
DTSTAMP:20260423T171037
CREATED:20220301T095607Z
LAST-MODIFIED:20220519T111733Z
UID:25278-1653202800-1653865200@loutraki.gov.gr
SUMMARY:Hellas Rally Raid 2022
DESCRIPTION:Το Hellas Rally Raid έρχεται στην 12η εκδοσή του καλύτερο και πιο βελτιωμένο με πανευρωπαϊκό χαρακτήρα\, να ξεκινήσει  την αγωνιστική σεζόν.\n\nΜε 2000 χλμ και 7 ημέρες αγώνα\, με κέντρο το Λουτράκι και την όμορφη περιοχή γύρω από τον Κορινθιακό κόλπο\, ο αγώνας φιλοδοξεί να κεντρίσει το ενδιαφέρον αγωνιζομένων από 32 χώρες\, σε μια διαδρομή 2.000 χιλιομέτρων\, και τη συμμετοχή 400 αγωνιζόμενων και 400 ατόμων συνοδούς και υποστηρικτικό προσωπικό\, 281 μοτοσυκλέτες\, 17 γουρούνες και 44 τετράτροχα. \nΥπάρχουν πολλές διαφορετικές κατηγορίες – ανάλογα με την ικανότητα οδήγησης\, τη μοτοσικλέτα και την πρόκληση. Επίσης\, υπάρχει μια ξεχωριστή κατηγορία για side-by-side (SXS ή SSV). Το σχέδιο είναι οι μοτοσυκλέτες και τα SXS να κινούνται σε διαφορετικές διαδρομές για να μην εμποδίζουν ή θέτουν σε κίνδυνο η μία την άλλη. \nΜΙΑ ΠΕΡΙΠΕΤΕΙΑ ΡΑΛΙ ΓΙΑ ΑΡΧΑΡΙΟΥΣ ΚΑΙ ΕΠΑΓΓΕΛΜΑΤΙΕΣ! \nΠερισσότερες πληροφορίες για τον αγώνα: Hellasrally.org \nΜια κορυφαία περιπέτεια ράλι από την αρχή μέχρι το τέλος!  \nΠαρακολουθήστε το video \n
URL:https://loutraki.gov.gr/event/hellas-rally-raid-2022/
LOCATION:Αλεξάνδρειο Συνεδριακό Κέντρο\, Λουτράκι\, Κορινθία\, 20300\, Ελλάδα
GEO:37.931569;22.991929
X-APPLE-STRUCTURED-LOCATION;VALUE=URI;X-ADDRESS=Αλεξάνδρειο Συνεδριακό Κέντρο Λουτράκι Κορινθία 20300 Ελλάδα;X-APPLE-RADIUS=500;X-TITLE=Αλεξάνδρειο Συνεδριακό Κέντρο:geo:22.991929,37.931569
CATEGORIES:Αθλητικές
ATTACH;FMTTYPE=image/jpeg:https://loutraki.gov.gr/wp-content/uploads/2022/03/HELLAS-RALLY-RAID-2022.jpg
ORGANIZER;CN="Hellas%20Rally":MAILTO:info@hellasrally.org
END:VEVENT
END:VCALENDAR