BEGIN:VCALENDAR
VERSION:2.0
PRODID:-//Δήμος Λουτρακίου - ECPv4.6.12//NONSGML v1.0//EN
CALSCALE:GREGORIAN
METHOD:PUBLISH
X-WR-CALNAME:Δήμος Λουτρακίου
X-ORIGINAL-URL:https://loutraki.gov.gr
X-WR-CALDESC:Events for Δήμος Λουτρακίου
BEGIN:VEVENT
DTSTART;TZID=Europe/Athens:20191104T150000
DTEND;TZID=Europe/Athens:20191104T150000
DTSTAMP:20260424T103804
CREATED:20191101T101654Z
LAST-MODIFIED:20191101T101723Z
UID:18844-1572879600-1572879600@loutraki.gov.gr
SUMMARY:Φιλικός ποδοσφαιρικός αγώνας
DESCRIPTION:[gview file=»https://loutraki.gov.gr/wp-content/uploads/2019/11/ΕΓΓΡΑΦΟ-ΚΟΡΙΝΘΟ-ΑΡΚΑΔΙΑΣ-ΑΓΩΝΑ-ΛΟΥΤΡΑΚΙ.pdf»] \n  \nΑΝΑΚΟΙΝΩΣΗ \n  \nΟι Ενώσεις Αστυνομικών Υπαλλήλων Αρκαδίας και Κορινθίας συνδιοργανώνουν \nτη Δευτέρα 4 Νοεμβρίου και ώρα 15:00 \nφιλικό ποδοσφαιρικό αγώνα \nπου θα διεξαχθεί στο «Θώδειο» Στάδιο Λουτρακίου Κορινθίας\, \nμεταξύ ομάδας αποτελούμενης από Αστυνομικούς της Διεύθυνσης Αστυνομίας Αρκαδίας και \nομάδας αποτελούμενης από Αστυνομικούς της Διεύθυνσης Αστυνομίας Κορινθίας. \nΟ αγώνας θα έχει φιλανθρωπικό χαρακτήρα και τα χρήματα θα δοθούν για την ενίσχυση του Σωματείου «ΦΑΣΜΑ» γονέων παιδιών με αυτισμό & Asperger  Κορίνθιας. \nΠαρακαλούνται τα μέλη των Ενώσεών μας\, καθώς και το φίλαθλο κοινό όπως προσέλθουν και παρακολουθήσουν τον ανωτέρω ποδοσφαιρικό αγώνα.  \n  \n
URL:https://loutraki.gov.gr/event/filikos-podosfairikos-agonas/
CATEGORIES:Αθλητικές
ATTACH;FMTTYPE=image/jpeg:https://loutraki.gov.gr/wp-content/uploads/2019/11/ΦΑΣΜΑ_ΕΝΩΣΗ-ΑΣΤΥΝΟΜΙΚΩΝ-ΥΠΑΛΛΗΛΩΝ.jpg
END:VEVENT
END:VCALENDAR