BEGIN:VCALENDAR
VERSION:2.0
PRODID:-//Δήμος Λουτρακίου - ECPv4.6.12//NONSGML v1.0//EN
CALSCALE:GREGORIAN
METHOD:PUBLISH
X-WR-CALNAME:Δήμος Λουτρακίου
X-ORIGINAL-URL:https://loutraki.gov.gr
X-WR-CALDESC:Events for Δήμος Λουτρακίου
BEGIN:VEVENT
DTSTART;VALUE=DATE:20190627
DTEND;VALUE=DATE:20190805
DTSTAMP:20260424T212441
CREATED:20190620T164244Z
LAST-MODIFIED:20190620T164244Z
UID:17861-1561593600-1564963199@loutraki.gov.gr
SUMMARY:Festivart 2019
DESCRIPTION:Το festivart 2019 είναι γεγονός!\nΑπό τις 27 Ιουνίου μέχρι τις 4 Αυγούστου θα πραγματοποιηθεί στο Λουτράκι\, για έκτη\nχρονιά\, το Festivart.\nTo Festivart είναι ένα ανεξάρτητο φεστιβάλ τέχνης με κύριο σκοπό τη δημιουργία ενός\nκοινού πεδίου επικοινωνίας\, έρευνας και δράσης τόσο μεταξύ κοινού και καλλιτεχνών\, όσο\nκαι των δημιουργών μεταξύ τους.\nΤα δρώμενα του FestivArt 19 ξεκινούν το απόγευμα της Πέμπτης 27 Ιουνίου με ένα\nτετραήμερο αφιερωμένο στα παιδιά και ολοκληρώνονται την Κυριακή 4 Αυγούστου με το\nκλείσιμο της έκθεσης ΤiLT platform.\nΤο θέμα του φετινού Festivart είναι η Ίαση και το πρόγραμμα περιλαμβάνει εκθέσεις\,\nβραδιά ταινιών μικρού μήκους animation\, workshops για μικρούς και μεγάλους\,\nεργαστήρια art therapy και συναυλίες. \nΚατεβάστε εδώ όλο το πρόγραμμά \nΠερισσότερες πληροφορίες για το φεστιβάλ\nμπορείτε να αντλείτε στην ιστοσελίδα www.festivart.gr \n
URL:https://loutraki.gov.gr/event/festivart-2019/
CATEGORIES:Πολιτιστικές
ATTACH;FMTTYPE=image/jpeg:https://loutraki.gov.gr/wp-content/uploads/2019/06/press_Release_Festivart19-1.jpg
END:VEVENT
END:VCALENDAR