BEGIN:VCALENDAR
VERSION:2.0
PRODID:-//Δήμος Λουτρακίου - ECPv4.6.12//NONSGML v1.0//EN
CALSCALE:GREGORIAN
METHOD:PUBLISH
X-WR-CALNAME:Δήμος Λουτρακίου
X-ORIGINAL-URL:https://loutraki.gov.gr
X-WR-CALDESC:Events for Δήμος Λουτρακίου
BEGIN:VEVENT
DTSTART;TZID=Europe/Athens:20220320T110000
DTEND;TZID=Europe/Athens:20220320T170000
DTSTAMP:20260423T200257
CREATED:20220316T102839Z
LAST-MODIFIED:20220316T102839Z
UID:25379-1647774000-1647795600@loutraki.gov.gr
SUMMARY:Ετήσια συνάντηση του Mercedes Taxi Club Ελλάδος
DESCRIPTION:Ετήσια συνάντηση του Mercedes Taxi Club Ελλάδος\, την Κυριακή 20 Μαρτίου 2022 και ώρα 11.00\, στο Sea & Sand (Ίσθμια Κορινθίας) \n
URL:https://loutraki.gov.gr/event/etisia-synantisi-toy-mercedes-taxi-club-ellados/
LOCATION:Παλαιά ΕΟ Αθηνών Κορίνθου\, Ίσθμια\, Ίσθμια\, 20010\, Ελλάδα
GEO:37.922651;23.0038405
X-APPLE-STRUCTURED-LOCATION;VALUE=URI;X-ADDRESS=Παλαιά ΕΟ Αθηνών Κορίνθου Ίσθμια Ίσθμια 20010 Ελλάδα;X-APPLE-RADIUS=500;X-TITLE=Παλαιά ΕΟ Αθηνών Κορίνθου:geo:23.0038405,37.922651
ATTACH;FMTTYPE=image/jpeg:https://loutraki.gov.gr/wp-content/uploads/2022/03/MERCEDES-TAXI-CLUB-AFISA.jpg
END:VEVENT
END:VCALENDAR