BEGIN:VCALENDAR
VERSION:2.0
PRODID:-//Δήμος Λουτρακίου - ECPv4.6.12//NONSGML v1.0//EN
CALSCALE:GREGORIAN
METHOD:PUBLISH
X-WR-CALNAME:Δήμος Λουτρακίου
X-ORIGINAL-URL:https://loutraki.gov.gr
X-WR-CALDESC:Events for Δήμος Λουτρακίου
BEGIN:VEVENT
DTSTART;TZID=Europe/Athens:20191013T103000
DTEND;TZID=Europe/Athens:20191013T103000
DTSTAMP:20260424T114418
CREATED:20190930T113741Z
LAST-MODIFIED:20190930T113741Z
UID:18553-1570962600-1570962600@loutraki.gov.gr
SUMMARY:Εθελοντικός Καθαρισμός
DESCRIPTION:Την Κυριακή 13 Οκτωβρίου 2018 διοργανώνεται ο 3ος εθελοντικός καθαρισμός στο Παλαιό Καλαμάκι Κορινθίας με την υποστήριξη του Iek Europroodos\, του ΟΡΕΙΒΑΤΙΚΟΣ ΣΥΛΛΟΓΟΣ ΚΟΡΙΝΘΟΥ\, του Experience Corinthia – Συνεργατικό Δίκτυο Τουρισμού & Greek Travel Pages \n
URL:https://loutraki.gov.gr/event/ethelontikos-katharismos/
LOCATION:Ίσθμια Κεχριές\, Κόρινθος 20100\, Κορινθια\, 20100\, Ελλάδα
GEO:37.8840841;22.9859241
X-APPLE-STRUCTURED-LOCATION;VALUE=URI;X-ADDRESS=Ίσθμια Κεχριές Κόρινθος 20100 Κορινθια 20100 Ελλάδα;X-APPLE-RADIUS=500;X-TITLE=Ίσθμια Κεχριές:geo:22.9859241,37.8840841
CATEGORIES:Περιβαλλοντικές
ATTACH;FMTTYPE=image/jpeg:https://loutraki.gov.gr/wp-content/uploads/2019/09/ΕΘΕΛΟΝΤΙΚΟΣ-ΚΑΘΑΡΙΣΜΟΣ-ΚΑΛΑΜΑΚΙ.jpg
END:VEVENT
END:VCALENDAR