BEGIN:VCALENDAR
VERSION:2.0
PRODID:-//Δήμος Λουτρακίου - ECPv4.6.12//NONSGML v1.0//EN
CALSCALE:GREGORIAN
METHOD:PUBLISH
X-WR-CALNAME:Δήμος Λουτρακίου
X-ORIGINAL-URL:https://loutraki.gov.gr
X-WR-CALDESC:Events for Δήμος Λουτρακίου
BEGIN:VEVENT
DTSTART;TZID=Europe/Athens:20180620T090000
DTEND;TZID=Europe/Athens:20180620T130000
DTSTAMP:20260425T122114
CREATED:20180605T235449Z
LAST-MODIFIED:20180605T235449Z
UID:15408-1529485200-1529499600@loutraki.gov.gr
SUMMARY:Εθελοντική Αιμοδοσία Δήμου Λουτρακίου – Περαχώρας – Αγ. Θεοδώρων
DESCRIPTION:Την Τετάρτη 20 Ιουνίου 2018 πραγματοποιείται η 40η Εθελοντικη Αιμοδοσία του Δήμου Λουτρακίου – Περαχώρας – Αγ. Θεοδώρων στο Κέντρο Υγείας Λουτρακίου με την συμμετοχή και του Συλλόγου Εργαζομένων του Δήμου.\n10 λεπτά από το χρόνο μας μπορούν να σώσουν μια ζωη.\nΑς είμαστε όλοι εκεί! \n
URL:https://loutraki.gov.gr/event/ethelontiki-aimodosia-dimoy-loytrakioy-perachoras-ag-theodoron/
LOCATION:Τέρμα Καραϊσκάκη & Περικλέους\, ΛΟΥΤΡΑΚΙ\, Κορινθίας\, 20300\, Ελλάδα
GEO:37.972405;22.9816377
X-APPLE-STRUCTURED-LOCATION;VALUE=URI;X-ADDRESS=Τέρμα Καραϊσκάκη & Περικλέους ΛΟΥΤΡΑΚΙ Κορινθίας 20300 Ελλάδα;X-APPLE-RADIUS=500;X-TITLE=Τέρμα Καραϊσκάκη & Περικλέους:geo:22.9816377,37.972405
CATEGORIES:Υγείας
ATTACH;FMTTYPE=image/jpeg:https://loutraki.gov.gr/wp-content/uploads/2018/06/34418471_1566570210133011_7164766092731088896_n.jpg
END:VEVENT
END:VCALENDAR