BEGIN:VCALENDAR
VERSION:2.0
PRODID:-//Δήμος Λουτρακίου - ECPv4.6.12//NONSGML v1.0//EN
CALSCALE:GREGORIAN
METHOD:PUBLISH
X-WR-CALNAME:Δήμος Λουτρακίου
X-ORIGINAL-URL:https://loutraki.gov.gr
X-WR-CALDESC:Events for Δήμος Λουτρακίου
BEGIN:VEVENT
DTSTART;VALUE=DATE:20190722
DTEND;VALUE=DATE:20190726
DTSTAMP:20260424T161208
CREATED:20190722T183053Z
LAST-MODIFIED:20190722T183320Z
UID:18307-1563753600-1564099199@loutraki.gov.gr
SUMMARY:Εορτή Αγίας Παρασκευής 2019
DESCRIPTION:ΙΕΡΑ ΜΗΤΡΟΠΟΛΗ ΚΟΡΙΝΘΟΥ\nΙΕΡΟΣ ΕΝΟΡΙΑΚΟΣ ΝΑΟΣ ΑΓΙΑΣ ΠΑΡΑΣΚΕΥΗΣ ΠΙΣΙΩΝ\nΙΕΡΑ ΘΡΗΣΚΕΥΤΙΚΗ ΠΑΝΗΓΥΡΗ\nΠΡΟΓΡΑΜΜΑ ΕΟΡΤΑΣΜΟΥ\nΔΕΥΤΈΡΑ 22-ΙΟΥΛΙΟΥ ΙΕΡΑ ΠΑΡΑΚΛΗΣΗ ΣΤΗΝ ΑΓΙΑ ΠΑΡΑΣΚΕΥΗ ΠΕΡΙ ΩΡΑ 19:30 μ.μ.\nΤΡΙΤΗ 23-ΙΟΥΛΙΟΥ ΙΕΡΑ ΠΑΡΑΚΛΗΣΗ ΣΤΗΝ ΑΓΙΑ ΠΑΡΑΣΚΕΥΗ ΠΕΡΙ ΩΡΑ 19:30 μ.μ.\nΤΕΤΆΡΤΗ 24-ΙΟΥΛΙΟΥ ΙΕΡΑ ΠΑΡΑΚΛΗΣΗ ΣΤΗΝ ΑΓΙΑ ΠΑΡΑΣΚΕΥΗ ΠΕΡΙ ΩΡΑ 19:30 μ.μ.\nΠΈΜΠΤΗ 25-ΙΟΥΛΙΟΥ ΜΕΓΑΣ ΠΑΝΗΓΥΡΙΚΟΣ ΕΣΠΕΡΙΝΟΣ ΜΕΤΑ ΑΡΤΟΚΛΑΣΙΑΣ ΠΕΡΙ ΩΡΑ 19:30 μ.μ.\nΠΕΡΙΦΟΡΑ ΙΕΡΗΣ ΕΙΚΟΝΑΣ ΚΑΙ ΛΕΙΨΑΝΟΥ ΤΗΣ ΑΓΙΑΣ ΣΤΟΥΣ ΔΡΟΜΟΥΣ ΤΟΥ ΧΩΡΙΟΥ\nΠΑΡΑΣΚΕΥΉ 26-ΙΟΥΛΙΟΥ ΠΑΝΗΓΥΡΙΚΗ ΘΕΙΑ ΛΕΙΤΟΥΡΓΙΑ ΜΕΤΑ ΑΡΤΟΚΛΑΣΙΑΣ ΠΕΡΙ ΩΡΑ 7:00π.μ.\nΕΣΠΕΡΑΣ ΙΕΡΑ ΠΑΡΑΚΛΗΣΗ ΕΙΣ ΤΗΝ ΑΓΙΑ ΠΑΡΑΣΚΕΥΗ ΠΕΡΙ ΩΡΑ 8:00 μ.μ. \n\nεκ του εκκλησιαστικού συμβουλίου \n\n		\n			#gallery-1 {\n				margin: auto;\n			}\n			#gallery-1 .gallery-item {\n				float: left;\n				margin-top: 10px;\n				text-align: center;\n				width: 50%;\n			}\n			#gallery-1 img {\n				border: 2px solid #cfcfcf;\n			}\n			#gallery-1 .gallery-caption {\n				margin-left: 0;\n			}\n			/* see gallery_shortcode() in wp-includes/media.php */\n		\n		\n			\n				\n			\n			\n				\n			\n			\n				\n			\n			\n				\n			\n		\n\n
URL:https://loutraki.gov.gr/event/eorti-agias-paraskeyis-2019/
LOCATION:Πίσια\, Κορινθία\, Ελλάδα
GEO:38.0210744;22.9880671
CATEGORIES:Θρησκευτικές
ATTACH;FMTTYPE=image/jpeg:https://loutraki.gov.gr/wp-content/uploads/2019/07/Ι.Ν.-Αγίας-Παρασκευής-Πίσια.jpg
END:VEVENT
END:VCALENDAR