BEGIN:VCALENDAR
VERSION:2.0
PRODID:-//Δήμος Λουτρακίου - ECPv4.6.12//NONSGML v1.0//EN
CALSCALE:GREGORIAN
METHOD:PUBLISH
X-WR-CALNAME:Δήμος Λουτρακίου
X-ORIGINAL-URL:https://loutraki.gov.gr
X-WR-CALDESC:Events for Δήμος Λουτρακίου
BEGIN:VEVENT
DTSTART;TZID=Europe/Athens:20230501T080000
DTEND;TZID=Europe/Athens:20230502T170000
DTSTAMP:20260423T064751
CREATED:20230427T095743Z
LAST-MODIFIED:20230427T095901Z
UID:27770-1682928000-1683046800@loutraki.gov.gr
SUMMARY:Εορτασμός του Βυζαντινού Ι.Ν. Αγίου Αθανασίου Πισίων (Μάη Θανάσης Πισίων)
DESCRIPTION:\n\n \n \n \nΤην 1η Μαΐου 2023 ημέρα ΔΕΥΤΕΡΑ θα τελεστεί Μέγας Εσπερινός μετά αρτοκλασίας\, περί ώρας 19.30.\n \n\n\nΤην 2η Μαΐου 2023\, ημέρα ΤΡΙΤΗ κατά την οποία εορτάζει ο Βυζαντινός Ιερός Ναός -ημέρα ανακομιδής των λειψάνων του Αγίου Αθανασίου Αλεξανδρείας- θα τελεστεί Πανηγυρική Θεία Λειτουργία\, μετά αρτοκλασίας\, περί ώρας 7:30 π.μ.\n\n
URL:https://loutraki.gov.gr/event/eortasmos-toy-vyzantinoy-i-n-agioy-athanasioy-pision-mai-thanasis-pision/
CATEGORIES:Θρησκευτικές
ATTACH;FMTTYPE=image/jpeg:https://loutraki.gov.gr/wp-content/uploads/2023/04/ΜΑΗΘΑΝΑΣΗΣ_ΠΙΣΣΙΩΝ-2023.jpg
END:VEVENT
END:VCALENDAR