BEGIN:VCALENDAR
VERSION:2.0
PRODID:-//Δήμος Λουτρακίου - ECPv4.6.12//NONSGML v1.0//EN
CALSCALE:GREGORIAN
METHOD:PUBLISH
X-WR-CALNAME:Δήμος Λουτρακίου
X-ORIGINAL-URL:https://loutraki.gov.gr
X-WR-CALDESC:Events for Δήμος Λουτρακίου
BEGIN:VEVENT
DTSTART;VALUE=DATE:20190607
DTEND;VALUE=DATE:20190609
DTSTAMP:20260424T185446
CREATED:20190605T164422Z
LAST-MODIFIED:20190605T164422Z
UID:17828-1559865600-1560038399@loutraki.gov.gr
SUMMARY:Εορτασμός του Πολιούχου των Αγίων Θεοδώρων  ΑΓΙΟΥ ΘΕΟΔΩΡΟΥ ΣΤΡΑΤΗΛΑΤΟΥ
DESCRIPTION:Π Ρ Ο Σ Κ Λ Η Σ Η \n«Εορτασμός του Πολιούχου των Αγίων Θεοδώρων \nΑΓΙΟΥ ΘΕΟΔΩΡΟΥ ΣΤΡΑΤΗΛΑΤΟΥ» \n  \nΚαλείστε να τιμήσετε με την παρουσία σας τις θρησκευτικές εκδηλώσεις για τον εορτασμό του Πολιούχου μας\, \n΄΄ Αγίου Θεοδώρου του Στρατηλάτου΄΄  Παρασκευή 7 &  Σάββατο  8 Ιουνίου 2019. \n  \nΠΑΡΑΣΚΕΥΗ 7 ΙΟΥΝΙΟΥ \n  \nΠανηγυρικός Εσπερινός στον Ιερό Ναό των Αγίων Θεοδώρων  στις 19:00 \n  \nΛιτάνευση της Ιερής Εικόνας στις 20:30. \n  \nΜετά την λιτάνευση\, ακολουθεί εκδήλωση με παραδοσιακούς χορούς από το χορευτικό συγκρότημα  του  Πολιτιστικού   Συλλόγου »ΤΟ ΠΡΑΘΙ »\,  στην πλατεία έμπροσθεν του Ιερού Ναού . \n  \nΣΑΒΒΑΤΟ 8 ΙΟΥΝΙΟΥ \n  \nΠανηγυρική Θεία Λειτουργία στον Ιερό Ναό των Αγίων Θεοδώρων στις 7:00 π.μ έως 10:00 π.μ. \n  \nΕκδήλωση με παραδοσιακούς χορούς από το χορευτικό τμήμα της Δημοτικής μας Ενότητας στην Πλατεία Φιλοστράτας στις 20:30. \n  \n  \n  \n           Ο Δήμαρχος                                                       Ο Πρόεδρος \nΛουτρακίου – Περαχώρας- \n     Αγίων Θεοδώρων                                    Δημ. Κοινότητας Αγ. Θεοδώρων              \n  \n  \n  Γεώργιος Αλκ. Γκιώνης                       Κωνσταντής-Σκουλικαρίτης Αριστείδης                                         \n  \n
URL:https://loutraki.gov.gr/event/eortasmos-toy-polioychoy-ton-agion-theodoron-agioy-theodoroy-stratilatoy/
CATEGORIES:Θρησκευτικές
ATTACH;FMTTYPE=image/jpeg:https://loutraki.gov.gr/wp-content/uploads/2019/06/in-agioi-theodoroi-01.jpg
END:VEVENT
END:VCALENDAR