BEGIN:VCALENDAR
VERSION:2.0
PRODID:-//Δήμος Λουτρακίου - ECPv4.6.12//NONSGML v1.0//EN
CALSCALE:GREGORIAN
METHOD:PUBLISH
X-WR-CALNAME:Δήμος Λουτρακίου
X-ORIGINAL-URL:https://loutraki.gov.gr
X-WR-CALDESC:Events for Δήμος Λουτρακίου
BEGIN:VEVENT
DTSTART;TZID=Europe/Athens:20241209T183000
DTEND;TZID=Europe/Athens:20241209T203000
DTSTAMP:20260422T054736
CREATED:20241126T081342Z
LAST-MODIFIED:20241128T105304Z
UID:30783-1733769000-1733776200@loutraki.gov.gr
SUMMARY:ΕΝΗΜΕΡΩΤΙΚΗ ΗΜΕΡΙΔΑ
DESCRIPTION:Μετά την επικοινωνία μας με το Ινστιτούτο Αντιναρκωτικής Δράσης P.A.D.A.\, είναι ιδιαίτερη χαρά μας να φιλοξενήσουμε στο #Λουτράκι μία από τις σημαντικότερες εκδηλώσεις που έχουν διοργανωθεί στην περιοχή μας\, με καταξιωμένους ομιλητές. \n➡️ Μέσα από την εμπειρία τους\, θα μας εισάγουν στα νεότερα δεδομένα γύρω από τη μάστιγα των ναρκωτικών\, που πλήττει τους νέους μας και τις οικογένειές τους. \n💪 PADA – Αντιναρκωτική Δράση \n📌 Η δράση του Ινστιτούτου\, πλαισιωμένη από έμπειρο επιστημονικό δυναμικό\, έχει ως στόχο την προστασία\, την ενημέρωση και την αποτελεσματική αντιμετώπιση του προβλήματος των ναρκωτικών\, παρά τις συνεχείς προσπάθειες της Πολιτείας\, που δεν έχουν φέρει τα επιθυμητά αποτελέσματα. \n▶️ Η «Αντιναρκωτική Δράση» – P.A.D.A. συνεργάζεται με διεθνείς φορείς και οργανισμούς για να προσφέρει τεχνογνωσία και να ενώνει τις δυνάμεις όλης της χώρας\, με στόχο την αντιμετώπιση αυτής της κοινωνικής μάστιγας. \nΣτη σημερινή κοινωνία\, οι αστάθμητοι παράγοντες όπως ο #κυβερνοχώρος\, η τεχνολογία\, η #ενδοοικογενειακή βία\, η συστηματική παραμέληση\, ο κοινωνικός αποκλεισμός\, η #αποξένωση και ο #υπερκαταναλωτισμός αποτελούν σημαντικές προκλήσεις. Ο ρόλος των εκπαιδευτικών και των γονέων είναι κρίσιμος και πρέπει να αναβαθμιστεί\, ώστε να θωρακιστεί η ελληνική οικογένεια απέναντι σε αυτές τις προκλήσεις. \n⚠️ Ο σκοπός της εκδήλωσης είναι να αφυπνίσει και να κινητοποιήσει όλους\, καλώντας τους να δεσμευτούν σε ένα «κοινωνικό συμβόλαιο» για το μέλλον των νέων μας. Όλοι μαζί\, τώρα\, μπορούμε να δράσουμε για το καλύτερο αύριο. \n📆 Σας προσκαλούμε να παραβρεθείτε σε αυτή την κρίσιμη εκδήλωση\, που θα πραγματοποιηθεί στο Αλεξάνδρειο Συνεδριακό Κέντρο Λουτρακίου\, την Δευτέρα 9 Δεκεμβρίου 2014\, στις 18:30. \nΕΙΣΗΓΗΤΗΣ\n➡️ Ιωάννης Ραχωβίτσας\nΑντιστράτηγος ε.α. – Επίτιμος Υπαρχηγός της Ελληνικής Αστυνομίας – Πρόεδρος του Ινστιτούτου P.A.D.A. – Αντιναρκωτική Δράση \nΟΜΙΛΗΤΕΣ\n📌 Ελένη Μπακούρη\, Δρ.Τοξικολογίας\n📌 Όλγα Βασδέκη\, Ολυμπιονίκης\n📌 Έλενα Βακουφτσή\, εκπαιδευτικός\, Δρ. Παν/μίου Πελ/νήσου\n📌 Ιωάννης Καλλιάτσος\, Ιατρός – Καρδιολόγος \nΕίναι παρών στον αγώνα\,\nΕίναι στήριγμα στην κοινωνία\,\nΕίναι στάση ζωής\, \nΌλοι μετράμε για ένα καλύτερο μέλλον\,\nΓια την Ελπίδα\,\nΓια το παιδί ❗ \nΣύλλογος Κοινωνικών φροντιστηρίων Λουτρακίου – Περαχώρας – Αγ. Θεοδώρων \nPADA – Αντιναρκωτική Δράση \nΥπό την Αιγίδα του Δήμος Λουτρακίου – Περαχώρας – Αγίων Θεοδώρων \n\nhttps://loutraki.gov.gr/wp-content/uploads/2024/11/ΕΝΗΜΕΡΩΤΙΚΗ-022.mp4\nhttps://loutraki.gov.gr/wp-content/uploads/2024/11/ΕΝΗΜΕΡΩΤΙΚΗ-ΗΜΕΡΙΔΑ.mp4\n
URL:https://loutraki.gov.gr/event/enimerotiki-imerida/
LOCATION:Αλεξάνδρειο Συνεδριακό Κέντρο\, Λουτράκι\, Κορινθία\, 20300\, Ελλάδα
GEO:37.931569;22.991929
X-APPLE-STRUCTURED-LOCATION;VALUE=URI;X-ADDRESS=Αλεξάνδρειο Συνεδριακό Κέντρο Λουτράκι Κορινθία 20300 Ελλάδα;X-APPLE-RADIUS=500;X-TITLE=Αλεξάνδρειο Συνεδριακό Κέντρο:geo:22.991929,37.931569
CATEGORIES:Υγείας,Εκπαιδευτικές
ATTACH;FMTTYPE=image/jpeg:https://loutraki.gov.gr/wp-content/uploads/2024/11/ΕΝΗΜΕΡΩΤΙΚΗ-ΗΜΕΡΙΔΑ.jpg
END:VEVENT
END:VCALENDAR